BEGIN:VCALENDAR
VERSION:2.0
PRODID:-//Generations LLC - ECPv6.15.20//NONSGML v1.0//EN
CALSCALE:GREGORIAN
METHOD:PUBLISH
X-WR-CALNAME:Generations LLC
X-ORIGINAL-URL:https://generationsllc.org
X-WR-CALDESC:Events for Generations LLC
REFRESH-INTERVAL;VALUE=DURATION:PT1H
X-Robots-Tag:noindex
X-PUBLISHED-TTL:PT1H
BEGIN:VTIMEZONE
TZID:UTC
BEGIN:STANDARD
TZOFFSETFROM:+0000
TZOFFSETTO:+0000
TZNAME:UTC
DTSTART:20240101T000000
END:STANDARD
END:VTIMEZONE
BEGIN:VEVENT
DTSTART;VALUE=DATE:20250307
DTEND;VALUE=DATE:20250308
DTSTAMP:20260424T234506
CREATED:20250102T154012Z
LAST-MODIFIED:20250306T135518Z
UID:11009-1741305600-1741391999@generationsllc.org
SUMMARY:Friday at the HUB
DESCRIPTION:For Our Friends of Adult Home and Community Services\, come join us for engaging\, interactive activities throughout the month. \n–AM Activities:   Sewing Club\, Hygiene and Spa Day\, Yoga\, Meditation\, Outing \n–PM Activities:   Swimming at the YMCA\, Outing\, Shopping \n**Your chosen regular planned activities will be highlighted when you receive your personal calendar. If you would like to change your activity\, please contact Sahidi.
URL:https://generationsllc.org/event/friday-at-the-hub-2/
LOCATION:Generations\, LLC\, 912 Main St\, Waterboro\, ME\, 04087\, United States
END:VEVENT
BEGIN:VEVENT
DTSTART;VALUE=DATE:20250313
DTEND;VALUE=DATE:20250314
DTSTAMP:20260424T234506
CREATED:20250102T154712Z
LAST-MODIFIED:20250306T135122Z
UID:11015-1741824000-1741910399@generationsllc.org
SUMMARY:Thursday at the HUB
DESCRIPTION:For Our Friends of Adult Home and Community Services\, come join us for engaging\, interactive activities throughout the month. \n–Activities:   Cooking\, Hiking Group\, Mall\, Shopping\, Visit the Cat Rescue \n**Your chosen regular planned activities will be highlighted when you receive your personal calendar. If you would like to change your activity\, please contact Sahidi.
URL:https://generationsllc.org/event/thursday-at-the-hub-3/
LOCATION:Generations\, LLC\, 912 Main St\, Waterboro\, ME\, 04087\, United States
END:VEVENT
BEGIN:VEVENT
DTSTART;VALUE=DATE:20250320
DTEND;VALUE=DATE:20250321
DTSTAMP:20260424T234506
CREATED:20241227T173927Z
LAST-MODIFIED:20250307T145927Z
UID:10984-1742428800-1742515199@generationsllc.org
SUMMARY:No Thursday Activity This Week
DESCRIPTION:Friends of Children’s Services are welcome to come join us for engaging activities and creative crafts with friends throughout the month. \nWe hope you have a happy day today! \nSee you next week.
URL:https://generationsllc.org/event/no-thursday-activity-today/
LOCATION:Generations\, LLC\, 912 Main St\, Waterboro\, ME\, 04087\, United States
ORGANIZER;CN="Hannah":MAILTO:hwelsh.generations@gmail.com
END:VEVENT
BEGIN:VEVENT
DTSTART;VALUE=DATE:20250324
DTEND;VALUE=DATE:20250325
DTSTAMP:20260424T234506
CREATED:20250102T162007Z
LAST-MODIFIED:20250306T134417Z
UID:11035-1742774400-1742860799@generationsllc.org
SUMMARY:Monday at the HUB
DESCRIPTION:For Our Friends of Adult Home and Community Services\, come join us for engaging\, interactive activities throughout the month. \n–AM Activities:   Animal Rescue\, Cooking\, Job Club\, Outing\, D&D game \n–PM Activities:   Visit the Library\, Outing\, Swimming at the YMCA\, Outing\, D&D game \n**Your chosen regular planned activities will be highlighted when you receive your personal calendar. If you would like to change your activity\, please contact Sahidi.
URL:https://generationsllc.org/event/monday-at-the-hub-3/
LOCATION:Generations\, LLC\, 912 Main St\, Waterboro\, ME\, 04087\, United States
END:VEVENT
BEGIN:VEVENT
DTSTART;VALUE=DATE:20250325
DTEND;VALUE=DATE:20250326
DTSTAMP:20260424T234506
CREATED:20250102T155450Z
LAST-MODIFIED:20250306T134648Z
UID:11029-1742860800-1742947199@generationsllc.org
SUMMARY:Tuesday at the HUB
DESCRIPTION:For Our Friends of Adult Home and Community Services\, come join us for engaging\, interactive activities throughout the month. \n–Activities:   Bowling\, Shopping\, Volunteer at the Library\, Gaming \n**Your chosen regular planned activities will be highlighted when you receive your personal calendar. If you would like to change your activity\, please contact Sahidi.
URL:https://generationsllc.org/event/tuesday-at-the-hub-3/
LOCATION:Generations\, LLC\, 912 Main St\, Waterboro\, ME\, 04087\, United States
END:VEVENT
BEGIN:VEVENT
DTSTART;VALUE=DATE:20250326
DTEND;VALUE=DATE:20250327
DTSTAMP:20260424T234506
CREATED:20250102T155029Z
LAST-MODIFIED:20250306T134808Z
UID:11021-1742947200-1743033599@generationsllc.org
SUMMARY:Wednesday at the HUB
DESCRIPTION:For Our Friends of Adult Home and Community Services\, come join us for engaging\, interactive activities throughout the month. \n–AM Activities:   Adventures Group\, Outing\, Visit the Library\, Shopping\, Hiking \n–PM Activities:   Swimming at the YMCA\, Outing\, Art and Crafts \n**Your chosen regular planned activities will be highlighted when you receive your personal calendar. If you would like to change your activity\, please contact Sahidi.
URL:https://generationsllc.org/event/wednesday-at-the-hub-3/
LOCATION:Generations\, LLC\, 912 Main St\, Waterboro\, ME\, 04087\, United States
END:VEVENT
END:VCALENDAR