BEGIN:VCALENDAR
VERSION:2.0
PRODID:-//Generations LLC - ECPv6.15.20//NONSGML v1.0//EN
CALSCALE:GREGORIAN
METHOD:PUBLISH
X-ORIGINAL-URL:https://generationsllc.org
X-WR-CALDESC:Events for Generations LLC
REFRESH-INTERVAL;VALUE=DURATION:PT1H
X-Robots-Tag:noindex
X-PUBLISHED-TTL:PT1H
BEGIN:VTIMEZONE
TZID:UTC
BEGIN:STANDARD
TZOFFSETFROM:+0000
TZOFFSETTO:+0000
TZNAME:UTC
DTSTART:20240101T000000
END:STANDARD
END:VTIMEZONE
BEGIN:VEVENT
DTSTART;VALUE=DATE:20251010
DTEND;VALUE=DATE:20251011
DTSTAMP:20260425T122526
CREATED:20250926T122938Z
LAST-MODIFIED:20250926T122938Z
UID:11468-1760054400-1760140799@generationsllc.org
SUMMARY:Adult Services - October Events - Friday at the HUB
DESCRIPTION:For Our Friends of Adult Home and Community Services\, come join us for engaging\, interactive activities throughout the month. \n–AM Activities:   Hiking Group\, Mall\, Relationship Group\, Baking \n–PM Activities:   Swimming at the YMCA\, Outing\, Shopping \n**Your chosen regular planned activities will be highlighted when you receive your personal calendar. If you would like to change your activity\, please contact Sahidi.
URL:https://generationsllc.org/event/adult-services-october-events-friday-at-the-hub/
LOCATION:Generations\, LLC\, 912 Main St\, Waterboro\, ME\, 04087\, United States
END:VEVENT
BEGIN:VEVENT
DTSTART;VALUE=DATE:20251013
DTEND;VALUE=DATE:20251014
DTSTAMP:20260425T122526
CREATED:20250926T120826Z
LAST-MODIFIED:20250926T120826Z
UID:11434-1760313600-1760399999@generationsllc.org
SUMMARY:Adult Services - October Events - Monday at the HUB
DESCRIPTION:For Our Friends of Adult Home and Community Services\, come join us for engaging\, interactive activities throughout the month. \n–AM Activities:   Horse Rescue\, Library\, Craft\, Outing\, D&D game \n–PM Activities:   Visit the Library\, Outing\, Swimming at the YMCA\, D&D game \n**Your chosen regular planned activities will be highlighted when you receive your personal calendar. If you would like to change your activity\, please contact Sahidi.
URL:https://generationsllc.org/event/adult-services-october-events-monday-at-the-hub-2/
LOCATION:Generations\, LLC\, 912 Main St\, Waterboro\, ME\, 04087\, United States
END:VEVENT
BEGIN:VEVENT
DTSTART;VALUE=DATE:20251014
DTEND;VALUE=DATE:20251015
DTSTAMP:20260425T122526
CREATED:20250926T121236Z
LAST-MODIFIED:20250926T121236Z
UID:11442-1760400000-1760486399@generationsllc.org
SUMMARY:Adult Services - October Events - Tuesday at the HUB
DESCRIPTION:For Our Friends of Adult Home and Community Services\, come join us for engaging\, interactive activities throughout the month. \n–AM Activities:   Bowling\, Shopping\, Volunteer at the Library\, Gaming Club \n**Your chosen regular planned activities will be highlighted when you receive your personal calendar. If you would like to change your activity\, please contact Sahidi.
URL:https://generationsllc.org/event/adult-services-october-events-tuesday-at-the-hub-2/
LOCATION:Generations\, LLC\, 912 Main St\, Waterboro\, ME\, 04087\, United States
END:VEVENT
BEGIN:VEVENT
DTSTART;VALUE=DATE:20251015
DTEND;VALUE=DATE:20251016
DTSTAMP:20260425T122526
CREATED:20250926T121921Z
LAST-MODIFIED:20250926T121921Z
UID:11452-1760486400-1760572799@generationsllc.org
SUMMARY:Adult Services - October Events - Wednesday at the HUB
DESCRIPTION:For Our Friends of Adult Home and Community Services\, come join us for engaging\, interactive activities throughout the month. \n–AM Activities:   Adventure Group\, Outing\, Visit the Library\, Shopping\, Hiking\, Basketball\, Garden \n–PM Activities:   Swimming at the YMCA\, Outing\, Art and Crafts \n**Your chosen regular planned activities will be highlighted when you receive your personal calendar. If you would like to change your activity\, please contact Sahidi.
URL:https://generationsllc.org/event/adult-services-october-events-wednesday-at-the-hub-3/
LOCATION:Generations\, LLC\, 912 Main St\, Waterboro\, ME\, 04087\, United States
END:VEVENT
BEGIN:VEVENT
DTSTART;VALUE=DATE:20251016
DTEND;VALUE=DATE:20251017
DTSTAMP:20260425T122526
CREATED:20250926T122541Z
LAST-MODIFIED:20250926T122541Z
UID:11462-1760572800-1760659199@generationsllc.org
SUMMARY:Adult Services - October Events - Thursday at the HUB
DESCRIPTION:For Our Friends of Adult Home and Community Services\, come join us for engaging\, interactive activities throughout the month. \n-Activities:   Cooking\, Hiking Group\, Mall\, Bowling \n**Your chosen regular planned activities will be highlighted when you receive your personal calendar. If you would like to change your activity\, please contact Sahidi.
URL:https://generationsllc.org/event/adult-services-october-events-thursday-at-the-hub-2/
LOCATION:Generations\, LLC\, 912 Main St\, Waterboro\, ME\, 04087\, United States
END:VEVENT
BEGIN:VEVENT
DTSTART;VALUE=DATE:20251017
DTEND;VALUE=DATE:20251018
DTSTAMP:20260425T122526
CREATED:20250926T123057Z
LAST-MODIFIED:20250926T123057Z
UID:11470-1760659200-1760745599@generationsllc.org
SUMMARY:Adult Services - October Activities - Friday at the HUB
DESCRIPTION:For Our Friends of Adult Home and Community Services\, come join us for engaging\, interactive activities throughout the month. \n–AM Activities:   Hiking Group\, Mall\, Relationship Group\, Meow Cafe\, Baking \n–PM Activities:   Swimming at the YMCA\, Outing\, Shopping \n**Your chosen regular planned activities will be highlighted when you receive your personal calendar. If you would like to change your activity\, please contact Sahidi.
URL:https://generationsllc.org/event/adult-services-october-activities-friday-at-the-hub/
LOCATION:Generations\, LLC\, 912 Main St\, Waterboro\, ME\, 04087\, United States
END:VEVENT
BEGIN:VEVENT
DTSTART;VALUE=DATE:20251020
DTEND;VALUE=DATE:20251021
DTSTAMP:20260425T122526
CREATED:20250926T120920Z
LAST-MODIFIED:20250926T120920Z
UID:11436-1760918400-1761004799@generationsllc.org
SUMMARY:Adult Services - October Events - Monday at the HUB
DESCRIPTION:For Our Friends of Adult Home and Community Services\, come join us for engaging\, interactive activities throughout the month. \n–AM Activities:   Horse Rescue\, Library\, Craft\, Outing\, D&D game \n–PM Activities:   Visit the Library\, Outing\, Swimming at the YMCA\, D&D game \n**Your chosen regular planned activities will be highlighted when you receive your personal calendar. If you would like to change your activity\, please contact Sahidi.
URL:https://generationsllc.org/event/adult-services-october-events-monday-at-the-hub-3/
LOCATION:Generations\, LLC\, 912 Main St\, Waterboro\, ME\, 04087\, United States
END:VEVENT
BEGIN:VEVENT
DTSTART;VALUE=DATE:20251021
DTEND;VALUE=DATE:20251022
DTSTAMP:20260425T122526
CREATED:20250926T121332Z
LAST-MODIFIED:20250926T121332Z
UID:11444-1761004800-1761091199@generationsllc.org
SUMMARY:Adult Services - October Events - Tuesday at the HUB
DESCRIPTION:For Our Friends of Adult Home and Community Services\, come join us for engaging\, interactive activities throughout the month. \n–AM Activities:   Bowling\, Shopping\, Volunteer at the Library\, Gaming Club \n**Your chosen regular planned activities will be highlighted when you receive your personal calendar. If you would like to change your activity\, please contact Sahidi.
URL:https://generationsllc.org/event/adult-services-october-events-tuesday-at-the-hub-3/
LOCATION:Generations\, LLC\, 912 Main St\, Waterboro\, ME\, 04087\, United States
END:VEVENT
BEGIN:VEVENT
DTSTART;VALUE=DATE:20251022
DTEND;VALUE=DATE:20251023
DTSTAMP:20260425T122526
CREATED:20250926T122018Z
LAST-MODIFIED:20250926T122018Z
UID:11454-1761091200-1761177599@generationsllc.org
SUMMARY:Adult Services - October Events - Wednesday at the HUB
DESCRIPTION:For Our Friends of Adult Home and Community Services\, come join us for engaging\, interactive activities throughout the month. \n–AM Activities:   Adventure Group\, Outing\, Visit the Library\, Shopping\, Hiking\, Basketball\, Garden \n–PM Activities:   Swimming at the YMCA\, Outing\, Art and Crafts \n**Your chosen regular planned activities will be highlighted when you receive your personal calendar. If you would like to change your activity\, please contact Sahidi.
URL:https://generationsllc.org/event/adult-services-october-events-wednesday-at-the-hub-4/
LOCATION:Generations\, LLC\, 912 Main St\, Waterboro\, ME\, 04087\, United States
END:VEVENT
BEGIN:VEVENT
DTSTART;VALUE=DATE:20251023
DTEND;VALUE=DATE:20251024
DTSTAMP:20260425T122526
CREATED:20250926T122634Z
LAST-MODIFIED:20250926T122634Z
UID:11464-1761177600-1761263999@generationsllc.org
SUMMARY:Adult Services - October Events - Thursday at the HUB
DESCRIPTION:For Our Friends of Adult Home and Community Services\, come join us for engaging\, interactive activities throughout the month. \n-Activities:   Cooking\, Hiking Group\, Mall\, Bowling\, Meow Cafe\, Coffee Social \n**Your chosen regular planned activities will be highlighted when you receive your personal calendar. If you would like to change your activity\, please contact Sahidi.
URL:https://generationsllc.org/event/adult-services-october-events-thursday-at-the-hub-3/
LOCATION:Generations\, LLC\, 912 Main St\, Waterboro\, ME\, 04087\, United States
END:VEVENT
BEGIN:VEVENT
DTSTART;VALUE=DATE:20251024
DTEND;VALUE=DATE:20251025
DTSTAMP:20260425T122526
CREATED:20250926T123200Z
LAST-MODIFIED:20250926T123200Z
UID:11472-1761264000-1761350399@generationsllc.org
SUMMARY:Adult Services - October Events - Friday at the HUB
DESCRIPTION:For Our Friends of Adult Home and Community Services\, come join us for engaging\, interactive activities throughout the month. \n–AM Activities:   Hiking Group\, Mall\, Relationship Group\, Baking \n–PM Activities:   Swimming at the YMCA\, Outing\, Library \n**Your chosen regular planned activities will be highlighted when you receive your personal calendar. If you would like to change your activity\, please contact Sahidi.
URL:https://generationsllc.org/event/adult-services-october-events-friday-at-the-hub-2/
LOCATION:Generations\, LLC\, 912 Main St\, Waterboro\, ME\, 04087\, United States
END:VEVENT
BEGIN:VEVENT
DTSTART;VALUE=DATE:20251027
DTEND;VALUE=DATE:20251028
DTSTAMP:20260425T122526
CREATED:20250926T121008Z
LAST-MODIFIED:20250926T121008Z
UID:11438-1761523200-1761609599@generationsllc.org
SUMMARY:Adult Services - October Events - Monday at the HUB
DESCRIPTION:For Our Friends of Adult Home and Community Services\, come join us for engaging\, interactive activities throughout the month. \n–AM Activities:   Horse Rescue\, Library\, Craft\, Outing\, D&D game \n–PM Activities:   Visit the Library\, Outing\, Swimming at the YMCA\, D&D game \n**Your chosen regular planned activities will be highlighted when you receive your personal calendar. If you would like to change your activity\, please contact Sahidi.
URL:https://generationsllc.org/event/adult-services-october-events-monday-at-the-hub-4/
LOCATION:Generations\, LLC\, 912 Main St\, Waterboro\, ME\, 04087\, United States
END:VEVENT
BEGIN:VEVENT
DTSTART;VALUE=DATE:20251028
DTEND;VALUE=DATE:20251029
DTSTAMP:20260425T122526
CREATED:20250926T121434Z
LAST-MODIFIED:20250926T121434Z
UID:11446-1761609600-1761695999@generationsllc.org
SUMMARY:Adult Services - October Events - Tuesday at the HUB
DESCRIPTION:For Our Friends of Adult Home and Community Services\, come join us for engaging\, interactive activities throughout the month. \n–AM Activities:   Bowling\, Shopping\, Volunteer at the Library\, Gaming Club \n**Your chosen regular planned activities will be highlighted when you receive your personal calendar. If you would like to change your activity\, please contact Sahidi.
URL:https://generationsllc.org/event/adult-services-october-events-tuesday-at-the-hub-4/
LOCATION:Generations\, LLC\, 912 Main St\, Waterboro\, ME\, 04087\, United States
END:VEVENT
BEGIN:VEVENT
DTSTART;VALUE=DATE:20251029
DTEND;VALUE=DATE:20251030
DTSTAMP:20260425T122526
CREATED:20250926T122110Z
LAST-MODIFIED:20250926T122110Z
UID:11456-1761696000-1761782399@generationsllc.org
SUMMARY:Adult Services - October Events - Wednesday at the HUB
DESCRIPTION:For Our Friends of Adult Home and Community Services\, come join us for engaging\, interactive activities throughout the month. \n–AM Activities:   Adventure Group\, Outing\, Visit the Library\, Shopping\, Hiking\, Basketball\, Garden \n–PM Activities:   Swimming at the YMCA\, Outing\, Art and Crafts \n**Your chosen regular planned activities will be highlighted when you receive your personal calendar. If you would like to change your activity\, please contact Sahidi.
URL:https://generationsllc.org/event/adult-services-october-events-wednesday-at-the-hub-5/
LOCATION:Generations\, LLC\, 912 Main St\, Waterboro\, ME\, 04087\, United States
END:VEVENT
BEGIN:VEVENT
DTSTART;VALUE=DATE:20251030
DTEND;VALUE=DATE:20251031
DTSTAMP:20260425T122526
CREATED:20250926T122743Z
LAST-MODIFIED:20250926T122743Z
UID:11466-1761782400-1761868799@generationsllc.org
SUMMARY:Adult Services - October Events - Thursday at the HUB
DESCRIPTION:For Our Friends of Adult Home and Community Services\, come join us for engaging\, interactive activities throughout the month. \n-Activities:   Cooking\, Hiking Group\, Mall\, Bowling\, Shopping \n**Your chosen regular planned activities will be highlighted when you receive your personal calendar. If you would like to change your activity\, please contact Sahidi.
URL:https://generationsllc.org/event/adult-services-october-events-thursday-at-the-hub-4/
LOCATION:Generations\, LLC\, 912 Main St\, Waterboro\, ME\, 04087\, United States
END:VEVENT
BEGIN:VEVENT
DTSTART;VALUE=DATE:20251031
DTEND;VALUE=DATE:20251101
DTSTAMP:20260425T122526
CREATED:20250926T123323Z
LAST-MODIFIED:20250926T123323Z
UID:11474-1761868800-1761955199@generationsllc.org
SUMMARY:Adult Services - October Events - Friday at the HUB
DESCRIPTION:For Our Friends of Adult Home and Community Services\, come join us for engaging\, interactive activities throughout the month. \n–AM Activities:   Hiking Group\, Mall\, Relationship Group\, \nHALLOWEEN PARTY from 11 – 1pm \n**Your chosen regular planned activities will be highlighted when you receive your personal calendar. If you would like to change your activity\, please contact Sahidi.
URL:https://generationsllc.org/event/adult-services-october-events-friday-at-the-hub-3/
LOCATION:Generations\, LLC\, 912 Main St\, Waterboro\, ME\, 04087\, United States
END:VEVENT
BEGIN:VEVENT
DTSTART;VALUE=DATE:20251103
DTEND;VALUE=DATE:20251104
DTSTAMP:20260425T122526
CREATED:20251106T144913Z
LAST-MODIFIED:20251106T144913Z
UID:11511-1762128000-1762214399@generationsllc.org
SUMMARY:Monday at the HUB
DESCRIPTION:–AM Activities:   Horse Rescue\, Library\, Craft\, Outing\, D&D game \n–PM Activities:   Visit the Library\, Outing\, Swimming at the YMCA\, D&D game \n**Your chosen regular planned activities will be highlighted when you receive your personal calendar. If you would like to change your activity\, please contact Sahidi. \n  \n  \nFor Our Friends of Adult Home and Community Services\, come join us for engaging\, interactive activities throughout the month.
URL:https://generationsllc.org/event/monday-at-the-hub-11/
LOCATION:Generations\, LLC\, 912 Main St\, Waterboro\, ME\, 04087\, United States
END:VEVENT
BEGIN:VEVENT
DTSTART;VALUE=DATE:20251104
DTEND;VALUE=DATE:20251105
DTSTAMP:20260425T122526
CREATED:20251106T143515Z
LAST-MODIFIED:20251106T143515Z
UID:11503-1762214400-1762300799@generationsllc.org
SUMMARY:Tuesday at the HUB
DESCRIPTION:SPECIAL OLYMPICS BOWLING 7:30-3:00\n**Your chosen regular planned activities will be highlighted when you receive your personal calendar. If you would like to change your activity\, please contact Sahidi. \n  \nFor Our Friends of Adult Home and Community Services\, come join us for engaging\, interactive activities throughout the month.
URL:https://generationsllc.org/event/tuesday-at-the-hub-13/
LOCATION:Generations\, LLC\, 912 Main St\, Waterboro\, ME\, 04087\, United States
END:VEVENT
BEGIN:VEVENT
DTSTART;VALUE=DATE:20251105
DTEND;VALUE=DATE:20251106
DTSTAMP:20260425T122526
CREATED:20251106T142920Z
LAST-MODIFIED:20251106T142920Z
UID:11496-1762300800-1762387199@generationsllc.org
SUMMARY:Wednesday at the HUB
DESCRIPTION:–AM Activities:   Adventure Group\, Outing\, Library\, Shopping\, Line Dancing \n–PM Activities:   Swimming at the YMCA\, Outing\, Art and Crafts \n**Your chosen regular planned activities will be highlighted when you receive your personal calendar. If you would like to change your activity\, please contact Sahidi. \n  \nFor Our Friends of Adult Home and Community Services\, come join us for engaging\, interactive activities throughout the month.
URL:https://generationsllc.org/event/wednesday-at-the-hub-13/
LOCATION:Generations\, LLC\, 912 Main St\, Waterboro\, ME\, 04087\, United States
END:VEVENT
BEGIN:VEVENT
DTSTART;VALUE=DATE:20251106
DTEND;VALUE=DATE:20251107
DTSTAMP:20260425T122526
CREATED:20251106T141743Z
LAST-MODIFIED:20251106T142409Z
UID:11484-1762387200-1762473599@generationsllc.org
SUMMARY:Thursday at the HUB
DESCRIPTION:–AM Activities:  Cooking\, Hiking Group\, Mall\, Horse Farm \n**Your chosen regular planned activities will be highlighted when you receive your personal calendar. If you would like to change your activity\, please contact Sahidi.
URL:https://generationsllc.org/event/november-activities-thursday-at-the-hub/
LOCATION:Generations\, LLC\, 912 Main St\, Waterboro\, ME\, 04087\, United States
END:VEVENT
BEGIN:VEVENT
DTSTART;VALUE=DATE:20251107
DTEND;VALUE=DATE:20251108
DTSTAMP:20260425T122526
CREATED:20251106T141110Z
LAST-MODIFIED:20251106T142447Z
UID:11478-1762473600-1762559999@generationsllc.org
SUMMARY:Friday at the HUB
DESCRIPTION:–AM Activities:   Hiking Group\, Mall\, Relationship Group\, Meow Cafe \n-PM Activities:     Swimming at the Y\, Outing\, Shopping \n**Your chosen regular planned activities will be highlighted when you receive your personal calendar. If you would like to change your activity\, please contact Sahidi.
URL:https://generationsllc.org/event/adult-services-november-events-friday-at-the-hub/
LOCATION:Generations\, LLC\, 912 Main St\, Waterboro\, ME\, 04087\, United States
END:VEVENT
BEGIN:VEVENT
DTSTART;VALUE=DATE:20251110
DTEND;VALUE=DATE:20251111
DTSTAMP:20260425T122526
CREATED:20251106T145029Z
LAST-MODIFIED:20251106T145112Z
UID:11513-1762732800-1762819199@generationsllc.org
SUMMARY:Monday at the HUB
DESCRIPTION:–AM Activities:   Horse Rescue\, Library\, Craft\, Outing\, D&D game\, Outing Event \n–PM Activities:   Visit the Library\, Outing\, Swimming at the YMCA\, D&D game \n**Your chosen regular planned activities will be highlighted when you receive your personal calendar. If you would like to change your activity\, please contact Sahidi. \n  \n  \nFor Our Friends of Adult Home and Community Services\, come join us for engaging\, interactive activities throughout the month.
URL:https://generationsllc.org/event/monday-at-the-hub-12/
LOCATION:Generations\, LLC\, 912 Main St\, Waterboro\, ME\, 04087\, United States
END:VEVENT
BEGIN:VEVENT
DTSTART;TZID=UTC:20251111T080000
DTEND;TZID=UTC:20251111T170000
DTSTAMP:20260425T122526
CREATED:20251106T143619Z
LAST-MODIFIED:20251106T143619Z
UID:11505-1762848000-1762880400@generationsllc.org
SUMMARY:Tuesday at the HUB
DESCRIPTION:The HUB will be closed today for Veterans Day \n  \nFor Our Friends of Adult Home and Community Services\, come join us for engaging\, interactive activities throughout the month.
URL:https://generationsllc.org/event/tuesday-at-the-hub-14/
LOCATION:Generations\, LLC\, 912 Main St\, Waterboro\, ME\, 04087\, United States
END:VEVENT
BEGIN:VEVENT
DTSTART;VALUE=DATE:20251112
DTEND;VALUE=DATE:20251113
DTSTAMP:20260425T122526
CREATED:20251106T143015Z
LAST-MODIFIED:20251106T143015Z
UID:11498-1762905600-1762991999@generationsllc.org
SUMMARY:Wednesday at the HUB
DESCRIPTION:–AM Activities:   Adventure Group\, Outing\, Library\, Shopping\, Line Dancing \n–PM Activities:   Swimming at the YMCA\, Outing\, Art and Crafts \n**Your chosen regular planned activities will be highlighted when you receive your personal calendar. If you would like to change your activity\, please contact Sahidi. \n  \nFor Our Friends of Adult Home and Community Services\, come join us for engaging\, interactive activities throughout the month.
URL:https://generationsllc.org/event/wednesday-at-the-hub-14/
LOCATION:Generations\, LLC\, 912 Main St\, Waterboro\, ME\, 04087\, United States
END:VEVENT
BEGIN:VEVENT
DTSTART;VALUE=DATE:20251113
DTEND;VALUE=DATE:20251114
DTSTAMP:20260425T122526
CREATED:20251106T141844Z
LAST-MODIFIED:20251106T142510Z
UID:11486-1762992000-1763078399@generationsllc.org
SUMMARY:Thursday at the HUB
DESCRIPTION:–AM Activities:  Cooking\, Hiking Group\, Mall\, Horse Farm \n**Your chosen regular planned activities will be highlighted when you receive your personal calendar. If you would like to change your activity\, please contact Sahidi.
URL:https://generationsllc.org/event/november-activities-thursday-at-the-hub-2/
LOCATION:Generations\, LLC\, 912 Main St\, Waterboro\, ME\, 04087\, United States
ORGANIZER;CN="Hannah":MAILTO:hwelsh.generations@gmail.com
END:VEVENT
BEGIN:VEVENT
DTSTART;VALUE=DATE:20251114
DTEND;VALUE=DATE:20251115
DTSTAMP:20260425T122526
CREATED:20251106T141233Z
LAST-MODIFIED:20251106T142543Z
UID:11480-1763078400-1763164799@generationsllc.org
SUMMARY:Friday at the HUB
DESCRIPTION:–AM Activities:   Hiking Group\, Mall\, Relationship Group\, Meow Cafe \n–PM Activities:     Swimming at the Y\, Outing\, Shopping \n**Your chosen regular planned activities will be highlighted when you receive your personal calendar. If you would like to change your activity\, please contact Sahidi.
URL:https://generationsllc.org/event/adult-services-november-activities-friday-at-the-hub/
LOCATION:Generations\, LLC\, 912 Main St\, Waterboro\, ME\, 04087\, United States
END:VEVENT
BEGIN:VEVENT
DTSTART;VALUE=DATE:20251117
DTEND;VALUE=DATE:20251118
DTSTAMP:20260425T122526
CREATED:20251106T145208Z
LAST-MODIFIED:20251106T145208Z
UID:11515-1763337600-1763423999@generationsllc.org
SUMMARY:Monday at the HUB
DESCRIPTION:–AM Activities:   Horse Rescue\, Library\, Craft\, Outing\, D&D game \n–PM Activities:   Visit the Library\, Outing\, Swimming at the YMCA\, D&D game \n**Your chosen regular planned activities will be highlighted when you receive your personal calendar. If you would like to change your activity\, please contact Sahidi. \n  \n  \nFor Our Friends of Adult Home and Community Services\, come join us for engaging\, interactive activities throughout the month.
URL:https://generationsllc.org/event/monday-at-the-hub-13/
LOCATION:Generations\, LLC\, 912 Main St\, Waterboro\, ME\, 04087\, United States
END:VEVENT
BEGIN:VEVENT
DTSTART;VALUE=DATE:20251118
DTEND;VALUE=DATE:20251119
DTSTAMP:20260425T122526
CREATED:20251106T143834Z
LAST-MODIFIED:20251106T143834Z
UID:11507-1763424000-1763510399@generationsllc.org
SUMMARY:Tuesday at the HUB
DESCRIPTION:–AM Activities:   Bowling\, Volunteer at the Library\, Gaming Club \n**Your chosen regular planned activities will be highlighted when you receive your personal calendar. If you would like to change your activity\, please contact Sahidi. \n  \n  \nFor Our Friends of Adult Home and Community Services\, come join us for engaging\, interactive activities throughout the month.
URL:https://generationsllc.org/event/tuesday-at-the-hub-15/
LOCATION:Generations\, LLC\, 912 Main St\, Waterboro\, ME\, 04087\, United States
END:VEVENT
BEGIN:VEVENT
DTSTART;VALUE=DATE:20251119
DTEND;VALUE=DATE:20251120
DTSTAMP:20260425T122526
CREATED:20251106T143228Z
LAST-MODIFIED:20251106T143337Z
UID:11500-1763510400-1763596799@generationsllc.org
SUMMARY:Wednesday at the HUB
DESCRIPTION:–AM Activities:   Adventure Group\, Outing\, Library\, Shopping\, Line Dancing \n–PM Activities:   Swimming at the YMCA\, Outing\, Art and Crafts \n**Your chosen regular planned activities will be highlighted when you receive your personal calendar. If you would like to change your activity\, please contact Sahidi. \n  \nFor Our Friends of Adult Home and Community Services\, come join us for engaging\, interactive activities throughout the month.
URL:https://generationsllc.org/event/wednesday-at-the-hub-15/
LOCATION:Generations\, LLC\, 912 Main St\, Waterboro\, ME\, 04087\, United States
END:VEVENT
BEGIN:VEVENT
DTSTART;VALUE=DATE:20251120
DTEND;VALUE=DATE:20251121
DTSTAMP:20260425T122526
CREATED:20251106T142131Z
LAST-MODIFIED:20251106T142600Z
UID:11488-1763596800-1763683199@generationsllc.org
SUMMARY:Thursday at the HUB
DESCRIPTION:–AM Activities:  Cooking\, Hiking Group\, Mall\, Horse Farm \n**Your chosen regular planned activities will be highlighted when you receive your personal calendar. If you would like to change your activity\, please contact Sahidi.
URL:https://generationsllc.org/event/november-activities-thursday-at-the-hub-3/
LOCATION:Generations\, LLC\, 912 Main St\, Waterboro\, ME\, 04087\, United States
END:VEVENT
END:VCALENDAR