BEGIN:VCALENDAR
VERSION:2.0
PRODID:-//Generations LLC - ECPv6.15.20//NONSGML v1.0//EN
CALSCALE:GREGORIAN
METHOD:PUBLISH
X-WR-CALNAME:Generations LLC
X-ORIGINAL-URL:https://generationsllc.org
X-WR-CALDESC:Events for Generations LLC
REFRESH-INTERVAL;VALUE=DURATION:PT1H
X-Robots-Tag:noindex
X-PUBLISHED-TTL:PT1H
BEGIN:VTIMEZONE
TZID:UTC
BEGIN:STANDARD
TZOFFSETFROM:+0000
TZOFFSETTO:+0000
TZNAME:UTC
DTSTART:20240101T000000
END:STANDARD
END:VTIMEZONE
BEGIN:VEVENT
DTSTART;VALUE=DATE:20250617
DTEND;VALUE=DATE:20250618
DTSTAMP:20260425T123222
CREATED:20250602T123628Z
LAST-MODIFIED:20250602T123628Z
UID:11240-1750118400-1750204799@generationsllc.org
SUMMARY:Adult Services - June Activities - Tuesday at the HUB
DESCRIPTION:For Our Friends of Adult Home and Community Services\, come join us for engaging\, interactive activities throughout the month. \n–Activities:   Bowling\, Shopping\, Volunteer at the Library\, Gaming Club \n**Your chosen regular planned activities will be highlighted when you receive your personal calendar. If you would like to change your activity\, please contact Sahidi.
URL:https://generationsllc.org/event/adult-services-june-activities-tuesday-at-the-hub-3/
LOCATION:Generations\, LLC\, 912 Main St\, Waterboro\, ME\, 04087\, United States
END:VEVENT
BEGIN:VEVENT
DTSTART;VALUE=DATE:20250618
DTEND;VALUE=DATE:20250619
DTSTAMP:20260425T123222
CREATED:20250602T124144Z
LAST-MODIFIED:20250605T150528Z
UID:11248-1750204800-1750291199@generationsllc.org
SUMMARY:Adult Services - June Activities - Wednesday at the HUB
DESCRIPTION:For Our Friends of Adult Home and Community Services\, come join us for engaging\, interactive activities throughout the month. \n–AM Activities:   Adventures Group\, Outing\, Visit the Library\, Shopping\, Hiking\, Basketball\, Garden\, Fishing Club \n–PM Activities:   Swimming at the YMCA\, Outing\, Art and Crafts \n**Your chosen regular planned activities will be highlighted when you receive your personal calendar. If you would like to change your activity\, please contact Sahidi.
URL:https://generationsllc.org/event/adult-services-june-activities-wednesday-at-the-hub-3/
LOCATION:Generations\, LLC\, 912 Main St\, Waterboro\, ME\, 04087\, United States
END:VEVENT
BEGIN:VEVENT
DTSTART;VALUE=DATE:20250619
DTEND;VALUE=DATE:20250620
DTSTAMP:20260425T123222
CREATED:20250602T124913Z
LAST-MODIFIED:20250602T125417Z
UID:11258-1750291200-1750377599@generationsllc.org
SUMMARY:Adult Services - June Activities - Thursdays at the HUB
DESCRIPTION:For Our Friends of Adult Home and Community Services\, come join us for engaging\, interactive activities throughout the month. \n-Activities:   Cooking\, Hiking Group\, Mall\, Shopping\, Meow Cafe\, Coffee Social \n**Your chosen regular planned activities will be highlighted when you receive your personal calendar. If you would like to change your activity\, please contact Sahidi.
URL:https://generationsllc.org/event/11258/
LOCATION:Generations\, LLC\, 912 Main St\, Waterboro\, ME\, 04087\, United States
END:VEVENT
BEGIN:VEVENT
DTSTART;TZID=UTC:20250619T140000
DTEND;TZID=UTC:20250619T161500
DTSTAMP:20260425T123222
CREATED:20250527T124954Z
LAST-MODIFIED:20250527T125222Z
UID:11221-1750341600-1750349700@generationsllc.org
SUMMARY:Children Services - June Events - Collaborative Art
DESCRIPTION:Friends of Children’s Services are welcome to come join us for engaging activities and creative crafts with friends throughout the month. \nJune 19th – friends meet to work on a collaborative art project. \nJune 26th – Let’s HIKE!  We’ll be hiking at Alewive Woods Preserve in Kennebunk. \nmake sure to be prepared by bringing bug gear\, water and a snack. \nWe’ll all meet at the trail head by 2pm. \nAlewive Woods Preserve – Kennebunk Land Trust
URL:https://generationsllc.org/event/children-services-june-events-collaborative-art/
LOCATION:Generations\, LLC\, 912 Main St\, Waterboro\, ME\, 04087\, United States
ORGANIZER;CN="Hannah":MAILTO:hwelsh.generations@gmail.com
END:VEVENT
BEGIN:VEVENT
DTSTART;VALUE=DATE:20250620
DTEND;VALUE=DATE:20250621
DTSTAMP:20260425T123222
CREATED:20250602T130118Z
LAST-MODIFIED:20250602T130118Z
UID:11265-1750377600-1750463999@generationsllc.org
SUMMARY:Adult Services - June Activities - Friday at the HUB
DESCRIPTION:For Our Friends of Adult Home and Community Services\, come join us for engaging\, interactive activities throughout the month. \n–AM Activities:   Sewing\, Garden Club\, Relationship Group\, Yoga\, Meditation\, Outing\, Dog Rescue \n–PM Activities:   Swimming at the YMCA\, Outing\, Library \n**Your chosen regular planned activities will be highlighted when you receive your personal calendar. If you would like to change your activity\, please contact Sahidi. \n 
URL:https://generationsllc.org/event/adult-services-june-activities-friday-at-the-hub-3/
LOCATION:Generations\, LLC\, 912 Main St\, Waterboro\, ME\, 04087\, United States
END:VEVENT
BEGIN:VEVENT
DTSTART;VALUE=DATE:20250623
DTEND;VALUE=DATE:20250624
DTSTAMP:20260425T123222
CREATED:20250602T123248Z
LAST-MODIFIED:20250602T123248Z
UID:11232-1750636800-1750723199@generationsllc.org
SUMMARY:Adult Services - June Activities - Monday at the HUB
DESCRIPTION:For Our Friends of Adult Home and Community Services\, come join us for engaging\, interactive activities throughout the month. \n–AM Activities:   Animal Rescue\, Cooking\, Outing\, D&D game \n–PM Activities:   Visit the Library\, Outing\, Swimming at the YMCA\, Outing\, D&D game \n**Your chosen regular planned activities will be highlighted when you receive your personal calendar. If you would like to change your activity\, please contact Sahidi.
URL:https://generationsllc.org/event/adult-services-june-activities-monday-at-the-hub-4/
LOCATION:Generations\, LLC\, 912 Main St\, Waterboro\, ME\, 04087\, United States
END:VEVENT
BEGIN:VEVENT
DTSTART;VALUE=DATE:20250624
DTEND;VALUE=DATE:20250625
DTSTAMP:20260425T123222
CREATED:20250602T123712Z
LAST-MODIFIED:20250602T123712Z
UID:11242-1750723200-1750809599@generationsllc.org
SUMMARY:Adult Services - June Activities - Tuesday at the HUB
DESCRIPTION:For Our Friends of Adult Home and Community Services\, come join us for engaging\, interactive activities throughout the month. \n–Activities:   Bowling\, Shopping\, Volunteer at the Library\, Gaming Club \n**Your chosen regular planned activities will be highlighted when you receive your personal calendar. If you would like to change your activity\, please contact Sahidi.
URL:https://generationsllc.org/event/adult-services-june-activities-tuesday-at-the-hub-4/
LOCATION:Generations\, LLC\, 912 Main St\, Waterboro\, ME\, 04087\, United States
END:VEVENT
BEGIN:VEVENT
DTSTART;VALUE=DATE:20250625
DTEND;VALUE=DATE:20250626
DTSTAMP:20260425T123222
CREATED:20250602T124341Z
LAST-MODIFIED:20250605T150500Z
UID:11250-1750809600-1750895999@generationsllc.org
SUMMARY:Adult Services - June Activities - Wednesdays at the HUB
DESCRIPTION:For Our Friends of Adult Home and Community Services\, come join us for engaging\, interactive activities throughout the month. \n–AM Activities:   Trip to Salem RSVP by 6/18 (Arrival time at the HUB is 8am) \, Outing\, Visit the Library\, Shopping\, Hiking\, Basketball\, Garden\, Fishing Club \n–PM Activities:   Swimming at the YMCA\, Outing\, Art and Crafts \n**Your chosen regular planned activities will be highlighted when you receive your personal calendar. If you would like to change your activity\, please contact Sahidi.
URL:https://generationsllc.org/event/adult-services-june-activities-wednesdays-at-the-hub/
LOCATION:Generations\, LLC\, 912 Main St\, Waterboro\, ME\, 04087\, United States
END:VEVENT
BEGIN:VEVENT
DTSTART;VALUE=DATE:20250626
DTEND;VALUE=DATE:20250627
DTSTAMP:20260425T123222
CREATED:20250602T124745Z
LAST-MODIFIED:20250602T124745Z
UID:11256-1750896000-1750982399@generationsllc.org
SUMMARY:Adult Services - June Activities - Thursday at the HUB
DESCRIPTION:For Our Friends of Adult Home and Community Services\, come join us for engaging\, interactive activities throughout the month. \n-Activities:   Cooking\, Hiking Group\, Mall\, Meow Cafe  \n**Your chosen regular planned activities will be highlighted when you receive your personal calendar. If you would like to change your activity\, please contact Sahidi.
URL:https://generationsllc.org/event/adult-services-june-activities-thursday-at-the-hub-3/
LOCATION:Generations\, LLC\, 912 Main St\, Waterboro\, ME\, 04087\, United States
END:VEVENT
BEGIN:VEVENT
DTSTART;TZID=UTC:20250626T140000
DTEND;TZID=UTC:20250626T161500
DTSTAMP:20260425T123222
CREATED:20250527T125150Z
LAST-MODIFIED:20250527T125150Z
UID:11223-1750946400-1750954500@generationsllc.org
SUMMARY:Children Services - June Events - Let's Hike
DESCRIPTION:Friends of Children’s Services are welcome to come join us for engaging activities and creative crafts with friends throughout the month. \nJune 26th – Let’s HIKE!  We’ll be hiking at Alewive Woods Preserve in Kennebunk. \n***make sure to be prepared by bringing bug gear\, water and a snack.*** \nWe’ll all meet at the trail head by 2pm. \nAlewive Woods Preserve – Kennebunk Land Trust
URL:https://generationsllc.org/event/children-services-june-events-lets-hike/
LOCATION:Generations\, LLC\, 912 Main St\, Waterboro\, ME\, 04087\, United States
ORGANIZER;CN="Hannah":MAILTO:hwelsh.generations@gmail.com
END:VEVENT
BEGIN:VEVENT
DTSTART;VALUE=DATE:20250627
DTEND;VALUE=DATE:20250628
DTSTAMP:20260425T123222
CREATED:20250602T130212Z
LAST-MODIFIED:20250602T130212Z
UID:11267-1750982400-1751068799@generationsllc.org
SUMMARY:Adult Services - June Activities - Friday at the HUB
DESCRIPTION:For Our Friends of Adult Home and Community Services\, come join us for engaging\, interactive activities throughout the month. \n–AM Activities:   Sewing\, Garden Club\, Relationship Group\, Yoga\, Meditation\, Outing\, Dog Rescue \n–PM Activities:   Swimming at the YMCA\, Outing\, Library \n**Your chosen regular planned activities will be highlighted when you receive your personal calendar. If you would like to change your activity\, please contact Sahidi.
URL:https://generationsllc.org/event/adult-services-june-activities-friday-at-the-hub-4/
LOCATION:Generations\, LLC\, 912 Main St\, Waterboro\, ME\, 04087\, United States
END:VEVENT
BEGIN:VEVENT
DTSTART;VALUE=DATE:20250630
DTEND;VALUE=DATE:20250701
DTSTAMP:20260425T123222
CREATED:20250602T123337Z
LAST-MODIFIED:20250602T123337Z
UID:11234-1751241600-1751327999@generationsllc.org
SUMMARY:Adult Services - June Activities - Monday at the HUB
DESCRIPTION:For Our Friends of Adult Home and Community Services\, come join us for engaging\, interactive activities throughout the month. \n–AM Activities:   Animal Rescue\, Cooking\, Outing\, D&D game \n–PM Activities:   Visit the Library\, Outing\, Swimming at the YMCA\, Outing\, D&D game \n**Your chosen regular planned activities will be highlighted when you receive your personal calendar. If you would like to change your activity\, please contact Sahidi.
URL:https://generationsllc.org/event/adult-services-june-activities-monday-at-the-hub-5/
LOCATION:Generations\, LLC\, 912 Main St\, Waterboro\, ME\, 04087\, United States
END:VEVENT
BEGIN:VEVENT
DTSTART;VALUE=DATE:20250701
DTEND;VALUE=DATE:20250702
DTSTAMP:20260425T123222
CREATED:20250630T164315Z
LAST-MODIFIED:20250630T164315Z
UID:11281-1751328000-1751414399@generationsllc.org
SUMMARY:Adult Services _ July Activities _ Tuesday at the HUB
DESCRIPTION:For Our Friends of Adult Home and Community Services\, come join us for engaging\, interactive activities throughout the month. \n–AM Activities:   Bowling\, Shopping\, Volunteer at the Library\, Gaming Club \n**Your chosen regular planned activities will be highlighted when you receive your personal calendar. If you would like to change your activity\, please contact Sahidi.
URL:https://generationsllc.org/event/adult-services-_-july-activities-_-tuesday-at-the-hub/
LOCATION:Generations\, LLC\, 912 Main St\, Waterboro\, ME\, 04087\, United States
END:VEVENT
BEGIN:VEVENT
DTSTART;VALUE=DATE:20250702
DTEND;VALUE=DATE:20250703
DTSTAMP:20260425T123222
CREATED:20250630T164844Z
LAST-MODIFIED:20250630T164922Z
UID:11291-1751414400-1751500799@generationsllc.org
SUMMARY:Adult Services _ July Activities _ Wednesday at the HUB
DESCRIPTION:For Our Friends of Adult Home and Community Services\, come join us for engaging\, interactive activities throughout the month. \n–AM Activities:   Adventure Group \, Outing\, Visit the Library\, Shopping\, Hiking\, Basketball\, Garden \n–PM Activities:   Swimming at the YMCA\, Outing\, Art and Crafts \n**Your chosen regular planned activities will be highlighted when you receive your personal calendar. If you would like to change your activity\, please contact Sahidi.
URL:https://generationsllc.org/event/adult-services-_-july-activities-_-wednesday-at-the-hub/
LOCATION:Generations\, LLC\, 912 Main St\, Waterboro\, ME\, 04087\, United States
END:VEVENT
BEGIN:VEVENT
DTSTART;VALUE=DATE:20250703
DTEND;VALUE=DATE:20250704
DTSTAMP:20260425T123222
CREATED:20250630T165559Z
LAST-MODIFIED:20250630T165559Z
UID:11302-1751500800-1751587199@generationsllc.org
SUMMARY:Adult Services _ July Activities _ Thursday at the HUB
DESCRIPTION:For Our Friends of Adult Home and Community Services\, come join us for engaging\, interactive activities throughout the month. \n-Activities:   Cooking\, Hiking Group\, Mall\, Meow Cafe  \n**Your chosen regular planned activities will be highlighted when you receive your personal calendar. If you would like to change your activity\, please contact Sahidi.
URL:https://generationsllc.org/event/adult-services-_-july-activities-_-thursday-at-the-hub/
LOCATION:Generations\, LLC\, 912 Main St\, Waterboro\, ME\, 04087\, United States
END:VEVENT
BEGIN:VEVENT
DTSTART;VALUE=DATE:20250704
DTEND;VALUE=DATE:20250705
DTSTAMP:20260425T123222
CREATED:20250630T170148Z
LAST-MODIFIED:20250630T170148Z
UID:11312-1751587200-1751673599@generationsllc.org
SUMMARY:Adult Services _ July Activities _ Friday at the HUB
DESCRIPTION:For Our Friends of Adult Home and Community Services\, come join us for engaging\, interactive activities throughout the month. \n–AM Activities:   Sewing\, Garden Club\, Relationship Group\, Yoga\, Meditation\, Outing\, Dog Rescue \n–PM Activities:   Swimming at the YMCA\, Outing\, Shopping \n**Your chosen regular planned activities will be highlighted when you receive your personal calendar. If you would like to change your activity\, please contact Sahidi.
URL:https://generationsllc.org/event/adult-services-_-july-activities-_-friday-at-the-hub/
LOCATION:Generations\, LLC\, 912 Main St\, Waterboro\, ME\, 04087\, United States
END:VEVENT
BEGIN:VEVENT
DTSTART;VALUE=DATE:20250707
DTEND;VALUE=DATE:20250708
DTSTAMP:20260425T123222
CREATED:20250630T163806Z
LAST-MODIFIED:20250630T163806Z
UID:11273-1751846400-1751932799@generationsllc.org
SUMMARY:Adult Services _ July Activities _ Monday at the HUB
DESCRIPTION:For Our Friends of Adult Home and Community Services\, come join us for engaging\, interactive activities throughout the month. \n–AM Activities:   Animal Rescue\, Cooking\, Movies!! – Jurassic World (RSVP by 6/3/25) \n–PM Activities:   Visit the Library\, Outing\, Swimming at the YMCA\, Outing\, D&D game \n**Your chosen regular planned activities will be highlighted when you receive your personal calendar. If you would like to change your activity\, please contact Sahidi.
URL:https://generationsllc.org/event/adult-services-_-july-activities-_-monday-at-the-hub/
LOCATION:Generations\, LLC\, 912 Main St\, Waterboro\, ME\, 04087\, United States
END:VEVENT
BEGIN:VEVENT
DTSTART;VALUE=DATE:20250708
DTEND;VALUE=DATE:20250709
DTSTAMP:20260425T123222
CREATED:20250630T164406Z
LAST-MODIFIED:20250630T164406Z
UID:11283-1751932800-1752019199@generationsllc.org
SUMMARY:Adult Services _ July Activities _ Tuesday at the HUB
DESCRIPTION:For Our Friends of Adult Home and Community Services\, come join us for engaging\, interactive activities throughout the month. \n–AM Activities:   Bowling\, Shopping\, Volunteer at the Library\, Gaming Club \n**Your chosen regular planned activities will be highlighted when you receive your personal calendar. If you would like to change your activity\, please contact Sahidi.
URL:https://generationsllc.org/event/adult-services-_-july-activities-_-tuesday-at-the-hub-2/
LOCATION:Generations\, LLC\, 912 Main St\, Waterboro\, ME\, 04087\, United States
END:VEVENT
BEGIN:VEVENT
DTSTART;VALUE=DATE:20250709
DTEND;VALUE=DATE:20250710
DTSTAMP:20260425T123222
CREATED:20250630T165028Z
LAST-MODIFIED:20250630T165028Z
UID:11293-1752019200-1752105599@generationsllc.org
SUMMARY:Adult Services _ July Activities _ Wednesday at the HUB
DESCRIPTION:For Our Friends of Adult Home and Community Services\, come join us for engaging\, interactive activities throughout the month. \n–AM Activities:   Adventure Group \, Outing\, Visit the Library\, Shopping\, Hiking\, Basketball\, Garden \n–PM Activities:   Swimming at the YMCA\, Outing\, Art and Crafts \n**Your chosen regular planned activities will be highlighted when you receive your personal calendar. If you would like to change your activity\, please contact Sahidi.
URL:https://generationsllc.org/event/adult-services-_-july-activities-_-wednesday-at-the-hub-2/
LOCATION:Generations\, LLC\, 912 Main St\, Waterboro\, ME\, 04087\, United States
END:VEVENT
BEGIN:VEVENT
DTSTART;VALUE=DATE:20250710
DTEND;VALUE=DATE:20250711
DTSTAMP:20260425T123222
CREATED:20250630T165714Z
LAST-MODIFIED:20250630T165714Z
UID:11304-1752105600-1752191999@generationsllc.org
SUMMARY:Adult Services _ July Activities _ Thursday at the HUB
DESCRIPTION:For Our Friends of Adult Home and Community Services\, come join us for engaging\, interactive activities throughout the month. \n-Activities:   Cooking\, Hiking Group\, Mall\, Meow Cafe\, Coffee Social \n**Your chosen regular planned activities will be highlighted when you receive your personal calendar. If you would like to change your activity\, please contact Sahidi.
URL:https://generationsllc.org/event/adult-services-_-july-activities-_-thursday-at-the-hub-2/
LOCATION:Generations\, LLC\, 912 Main St\, Waterboro\, ME\, 04087\, United States
END:VEVENT
BEGIN:VEVENT
DTSTART;VALUE=DATE:20250711
DTEND;VALUE=DATE:20250712
DTSTAMP:20260425T123222
CREATED:20250630T170257Z
LAST-MODIFIED:20250630T170257Z
UID:11314-1752192000-1752278399@generationsllc.org
SUMMARY:Adult Services _ July Activities _ Friday at the HUB
DESCRIPTION:For Our Friends of Adult Home and Community Services\, come join us for engaging\, interactive activities throughout the month. \n–AM Activities:   Sewing\, Garden Club\, Relationship Group\, Yoga\, Meditation\, Outing\, Dog Rescue \n–PM Activities:   Swimming at the YMCA\, Outing\, Shopping \n**Your chosen regular planned activities will be highlighted when you receive your personal calendar. If you would like to change your activity\, please contact Sahidi.
URL:https://generationsllc.org/event/adult-services-_-july-activities-_-friday-at-the-hub-2/
LOCATION:Generations\, LLC\, 912 Main St\, Waterboro\, ME\, 04087\, United States
END:VEVENT
BEGIN:VEVENT
DTSTART;VALUE=DATE:20250714
DTEND;VALUE=DATE:20250715
DTSTAMP:20260425T123222
CREATED:20250630T163908Z
LAST-MODIFIED:20250630T163908Z
UID:11275-1752451200-1752537599@generationsllc.org
SUMMARY:Adult Services _ July Activities _ Monday at the HUB
DESCRIPTION:For Our Friends of Adult Home and Community Services\, come join us for engaging\, interactive activities throughout the month. \n–AM Activities:   Animal Rescue\, Cooking\, Outing\, D&D game \n–PM Activities:   Visit the Library\, Outing\, Swimming at the YMCA\, Outing\, D&D game \n**Your chosen regular planned activities will be highlighted when you receive your personal calendar. If you would like to change your activity\, please contact Sahidi.
URL:https://generationsllc.org/event/adult-services-_-july-activities-_-monday-at-the-hub-2/
LOCATION:Generations\, LLC\, 912 Main St\, Waterboro\, ME\, 04087\, United States
END:VEVENT
BEGIN:VEVENT
DTSTART;VALUE=DATE:20250715
DTEND;VALUE=DATE:20250716
DTSTAMP:20260425T123222
CREATED:20250630T164453Z
LAST-MODIFIED:20250630T164453Z
UID:11285-1752537600-1752623999@generationsllc.org
SUMMARY:Adult Services _ July Activities _ Tuesday at the HUB
DESCRIPTION:For Our Friends of Adult Home and Community Services\, come join us for engaging\, interactive activities throughout the month. \n–AM Activities:   Bowling\, Shopping\, Volunteer at the Library\, Gaming Club \n**Your chosen regular planned activities will be highlighted when you receive your personal calendar. If you would like to change your activity\, please contact Sahidi.
URL:https://generationsllc.org/event/adult-services-_-july-activities-_-tuesday-at-the-hub-3/
LOCATION:Generations\, LLC\, 912 Main St\, Waterboro\, ME\, 04087\, United States
END:VEVENT
BEGIN:VEVENT
DTSTART;VALUE=DATE:20250716
DTEND;VALUE=DATE:20250717
DTSTAMP:20260425T123222
CREATED:20250630T165129Z
LAST-MODIFIED:20250630T165129Z
UID:11295-1752624000-1752710399@generationsllc.org
SUMMARY:Adult Services _ July Activities _ Wednesday at the HUB
DESCRIPTION:For Our Friends of Adult Home and Community Services\, come join us for engaging\, interactive activities throughout the month. \n–AM Activities:   Adventure Group\, Outing\, Visit the Library\, Shopping\, Hiking\, Basketball\, Garden \n–PM Activities:   Swimming at the YMCA\, Outing\, Art and Crafts \n**Your chosen regular planned activities will be highlighted when you receive your personal calendar. If you would like to change your activity\, please contact Sahidi.
URL:https://generationsllc.org/event/adult-services-_-july-activities-_-wednesday-at-the-hub-3/
LOCATION:Generations\, LLC\, 912 Main St\, Waterboro\, ME\, 04087\, United States
END:VEVENT
BEGIN:VEVENT
DTSTART;VALUE=DATE:20250717
DTEND;VALUE=DATE:20250718
DTSTAMP:20260425T123222
CREATED:20250630T165829Z
LAST-MODIFIED:20250630T165829Z
UID:11306-1752710400-1752796799@generationsllc.org
SUMMARY:Adult Services _ July Activities _ Thursday at the HUB
DESCRIPTION:For Our Friends of Adult Home and Community Services\, come join us for engaging\, interactive activities throughout the month. \n-Activities:   Cooking\, Hiking Group\, Mall\, Meow Cafe\, Shopping \n**Your chosen regular planned activities will be highlighted when you receive your personal calendar. If you would like to change your activity\, please contact Sahidi.
URL:https://generationsllc.org/event/adult-services-_-july-activities-_-thursday-at-the-hub-3/
LOCATION:Generations\, LLC\, 912 Main St\, Waterboro\, ME\, 04087\, United States
END:VEVENT
BEGIN:VEVENT
DTSTART;VALUE=DATE:20250718
DTEND;VALUE=DATE:20250719
DTSTAMP:20260425T123222
CREATED:20250630T170411Z
LAST-MODIFIED:20250630T170411Z
UID:11316-1752796800-1752883199@generationsllc.org
SUMMARY:Adult Services _ July Activities _ Friday at the HUB
DESCRIPTION:For Our Friends of Adult Home and Community Services\, come join us for engaging\, interactive activities throughout the month. \n–AM Activities:   Sewing\, Garden Club\, Relationship Group\, Yoga\, Meditation\, Outing\, Dog Rescue \n–PM Activities:   Swimming at the YMCA\, Outing\, Library \n**Your chosen regular planned activities will be highlighted when you receive your personal calendar. If you would like to change your activity\, please contact Sahidi.
URL:https://generationsllc.org/event/adult-services-_-july-activities-_-friday-at-the-hub-3/
LOCATION:Generations\, LLC\, 912 Main St\, Waterboro\, ME\, 04087\, United States
END:VEVENT
BEGIN:VEVENT
DTSTART;VALUE=DATE:20250721
DTEND;VALUE=DATE:20250722
DTSTAMP:20260425T123222
CREATED:20250630T164019Z
LAST-MODIFIED:20250630T164019Z
UID:11277-1753056000-1753142399@generationsllc.org
SUMMARY:Adult Services _ July Activities _ Monday at the HUB
DESCRIPTION:For Our Friends of Adult Home and Community Services\, come join us for engaging\, interactive activities throughout the month. \n–AM Activities:   Animal Rescue\, Cooking\, Outing\, D&D game \n–PM Activities:   Visit the Library\, Outing\, Swimming at the YMCA\, Outing\, D&D game \n**Your chosen regular planned activities will be highlighted when you receive your personal calendar. If you would like to change your activity\, please contact Sahidi.
URL:https://generationsllc.org/event/adult-services-_-july-activities-_-monday-at-the-hub-3/
LOCATION:Generations\, LLC\, 912 Main St\, Waterboro\, ME\, 04087\, United States
END:VEVENT
BEGIN:VEVENT
DTSTART;VALUE=DATE:20250722
DTEND;VALUE=DATE:20250723
DTSTAMP:20260425T123222
CREATED:20250630T164548Z
LAST-MODIFIED:20250630T164548Z
UID:11287-1753142400-1753228799@generationsllc.org
SUMMARY:Adult Services _ July Activities _ Tuesday at the HUB
DESCRIPTION:For Our Friends of Adult Home and Community Services\, come join us for engaging\, interactive activities throughout the month. \n–AM Activities:   Bowling\, Shopping\, Volunteer at the Library\, Gaming Club \n**Your chosen regular planned activities will be highlighted when you receive your personal calendar. If you would like to change your activity\, please contact Sahidi.
URL:https://generationsllc.org/event/adult-services-_-july-activities-_-tuesday-at-the-hub-4/
LOCATION:Generations\, LLC\, 912 Main St\, Waterboro\, ME\, 04087\, United States
END:VEVENT
BEGIN:VEVENT
DTSTART;VALUE=DATE:20250723
DTEND;VALUE=DATE:20250724
DTSTAMP:20260425T123222
CREATED:20250630T165315Z
LAST-MODIFIED:20250630T165315Z
UID:11297-1753228800-1753315199@generationsllc.org
SUMMARY:Adult Services _ July Activities _ Wednesday at the HUB
DESCRIPTION:For Our Friends of Adult Home and Community Services\, come join us for engaging\, interactive activities throughout the month. \n–AM Activities:   Adventure Group\, Outing\, Visit the Library\, Shopping\, Hiking\, Basketball\, Garden \n–PM Activities:   Swimming at the YMCA\, Outing\, Art and Crafts\, York’s Wild Kingdom (RSVP by 6/18/25) \n**Your chosen regular planned activities will be highlighted when you receive your personal calendar. If you would like to change your activity\, please contact Sahidi.
URL:https://generationsllc.org/event/adult-services-_-july-activities-_-wednesday-at-the-hub-4/
LOCATION:Generations\, LLC\, 912 Main St\, Waterboro\, ME\, 04087\, United States
END:VEVENT
BEGIN:VEVENT
DTSTART;VALUE=DATE:20250724
DTEND;VALUE=DATE:20250725
DTSTAMP:20260425T123222
CREATED:20250630T165923Z
LAST-MODIFIED:20250630T165923Z
UID:11308-1753315200-1753401599@generationsllc.org
SUMMARY:Adult Services _ July Activities _ Thursday at the HUB
DESCRIPTION:For Our Friends of Adult Home and Community Services\, come join us for engaging\, interactive activities throughout the month. \n-Activities:   Cooking\, Hiking Group\, Mall\, Meow Cafe\, Coffee Social \n**Your chosen regular planned activities will be highlighted when you receive your personal calendar. If you would like to change your activity\, please contact Sahidi.
URL:https://generationsllc.org/event/adult-services-_-july-activities-_-thursday-at-the-hub-4/
LOCATION:Generations\, LLC\, 912 Main St\, Waterboro\, ME\, 04087\, United States
END:VEVENT
END:VCALENDAR