BEGIN:VCALENDAR
VERSION:2.0
PRODID:-//Generations LLC - ECPv6.15.20//NONSGML v1.0//EN
CALSCALE:GREGORIAN
METHOD:PUBLISH
X-WR-CALNAME:Generations LLC
X-ORIGINAL-URL:https://generationsllc.org
X-WR-CALDESC:Events for Generations LLC
REFRESH-INTERVAL;VALUE=DURATION:PT1H
X-Robots-Tag:noindex
X-PUBLISHED-TTL:PT1H
BEGIN:VTIMEZONE
TZID:UTC
BEGIN:STANDARD
TZOFFSETFROM:+0000
TZOFFSETTO:+0000
TZNAME:UTC
DTSTART:20230101T000000
END:STANDARD
END:VTIMEZONE
BEGIN:VEVENT
DTSTART;TZID=UTC:20241205T144500
DTEND;TZID=UTC:20241205T161500
DTSTAMP:20260426T022623
CREATED:20241206T150035Z
LAST-MODIFIED:20241206T150314Z
UID:10875-1733409900-1733415300@generationsllc.org
SUMMARY:Pinecone Crafts
DESCRIPTION:Come do some pinecone crafts with friends!! \nFriends of Children’s Services are welcome to come join us for engaging activities and creative crafts with friends throughout the month. \n 
URL:https://generationsllc.org/event/pinecone-crafts/
LOCATION:Generations\, LLC\, 912 Main St\, Waterboro\, ME\, 04087\, United States
ORGANIZER;CN="Hannah":MAILTO:hwelsh.generations@gmail.com
END:VEVENT
END:VCALENDAR