BEGIN:VCALENDAR
VERSION:2.0
PRODID:-//Generations LLC - ECPv6.15.20//NONSGML v1.0//EN
CALSCALE:GREGORIAN
METHOD:PUBLISH
X-WR-CALNAME:Generations LLC
X-ORIGINAL-URL:https://generationsllc.org
X-WR-CALDESC:Events for Generations LLC
REFRESH-INTERVAL;VALUE=DURATION:PT1H
X-Robots-Tag:noindex
X-PUBLISHED-TTL:PT1H
BEGIN:VTIMEZONE
TZID:UTC
BEGIN:STANDARD
TZOFFSETFROM:+0000
TZOFFSETTO:+0000
TZNAME:UTC
DTSTART:20230101T000000
END:STANDARD
END:VTIMEZONE
BEGIN:VEVENT
DTSTART;VALUE=DATE:20250124
DTEND;VALUE=DATE:20250125
DTSTAMP:20260425T155240
CREATED:20250102T153831Z
LAST-MODIFIED:20250102T153831Z
UID:11007-1737676800-1737763199@generationsllc.org
SUMMARY:Friday at the HUB
DESCRIPTION:For Our Friends of Adult Home and Community Services\, come join us for engaging\, interactive activities throughout the month. \n–AM Activities:   Hygiene and Spa Day\, Yoga\, Meditation\, outing \n–PM Activities:   Swimming at the YMCA\, Outing\, Library \n**Your chosen regular planned activities will be highlighted when you receive your personal calendar. If you would like to change your activity\, please contact Sahidi.
URL:https://generationsllc.org/event/friday-at-the-hub/
LOCATION:Generations\, LLC\, 912 Main St\, Waterboro\, ME\, 04087\, United States
END:VEVENT
BEGIN:VEVENT
DTSTART;TZID=UTC:20250123T143000
DTEND;TZID=UTC:20250123T161500
DTSTAMP:20260425T155240
CREATED:20241227T174117Z
LAST-MODIFIED:20241227T175707Z
UID:10986-1737642600-1737648900@generationsllc.org
SUMMARY:Board Games
DESCRIPTION:Friends of Children’s Services are welcome to come join us for engaging activities and creative crafts with friends throughout the month. \nToday is fun with Board Games and Hot Cocoa too! \nWe’ll also be joining the fun together with our annual January Get Fit Challenge!
URL:https://generationsllc.org/event/board-games/
LOCATION:Generations\, LLC\, 912 Main St\, Waterboro\, ME\, 04087\, United States
ORGANIZER;CN="Hannah":MAILTO:hwelsh.generations@gmail.com
END:VEVENT
BEGIN:VEVENT
DTSTART;VALUE=DATE:20250123
DTEND;VALUE=DATE:20250124
DTSTAMP:20260425T155240
CREATED:20250102T154552Z
LAST-MODIFIED:20250102T154552Z
UID:11013-1737590400-1737676799@generationsllc.org
SUMMARY:Thursday at the HUB
DESCRIPTION:For Our Friends of Adult Home and Community Services\, come join us for engaging\, interactive activities throughout the month. \n–Activities:   Cooking\, Hiking Group\, Mall\, Shopping\, Meow Cafe (RSVP by the 11th) \n**Your chosen regular planned activities will be highlighted when you receive your personal calendar. If you would like to change your activity\, please contact Sahidi.
URL:https://generationsllc.org/event/thursday-at-the-hub-2/
LOCATION:Generations\, LLC\, 912 Main St\, Waterboro\, ME\, 04087\, United States
END:VEVENT
BEGIN:VEVENT
DTSTART;VALUE=DATE:20250122
DTEND;VALUE=DATE:20250123
DTSTAMP:20260425T155240
CREATED:20250102T154936Z
LAST-MODIFIED:20250102T154936Z
UID:11019-1737504000-1737590399@generationsllc.org
SUMMARY:Wednesday at the HUB
DESCRIPTION:For Our Friends of Adult Home and Community Services\, come join us for engaging\, interactive activities throughout the month. \n–AM Activities:   Adventures Group\, Outing\, Visit the Library\, Shopping\, Hiking \n–PM Activities:   Swimming at the YMCA\, Outing\, Art and Crafts \n**Your chosen regular planned activities will be highlighted when you receive your personal calendar. If you would like to change your activity\, please contact Sahidi.
URL:https://generationsllc.org/event/wednesday-at-the-hub-2/
LOCATION:Generations\, LLC\, 912 Main St\, Waterboro\, ME\, 04087\, United States
END:VEVENT
BEGIN:VEVENT
DTSTART;VALUE=DATE:20250121
DTEND;VALUE=DATE:20250122
DTSTAMP:20260425T155240
CREATED:20250102T155350Z
LAST-MODIFIED:20250102T155350Z
UID:11027-1737417600-1737503999@generationsllc.org
SUMMARY:Tuesday at the HUB
DESCRIPTION:For Our Friends of Adult Home and Community Services\, come join us for engaging\, interactive activities throughout the month. \n–Activities:   Bowling\, Shopping\, Volunteer at the Library\, Gaming \n**Your chosen regular planned activities will be highlighted when you receive your personal calendar. If you would like to change your activity\, please contact Sahidi.
URL:https://generationsllc.org/event/tuesday-at-the-hub-2/
LOCATION:Generations\, LLC\, 912 Main St\, Waterboro\, ME\, 04087\, United States
END:VEVENT
BEGIN:VEVENT
DTSTART;VALUE=DATE:20250120
DTEND;VALUE=DATE:20250121
DTSTAMP:20260425T155240
CREATED:20250102T161703Z
LAST-MODIFIED:20250102T161703Z
UID:11033-1737331200-1737417599@generationsllc.org
SUMMARY:Monday at the HUB
DESCRIPTION:For Our Friends of Adult Home and Community Services\, come join us for engaging\, interactive activities throughout the month. \n–AM Activities:   Animal Rescue\, Cooking\, Job Club\, Outing\, D&D game \n–PM Activities:   Visit the Library\, Outing\, Swimming at the YMCA\, D&D game \n**Your chosen regular planned activities will be highlighted when you receive your personal calendar. If you would like to change your activity\, please contact Sahidi.
URL:https://generationsllc.org/event/monday-at-the-hub-2/
LOCATION:Generations\, LLC\, 912 Main St\, Waterboro\, ME\, 04087\, United States
END:VEVENT
BEGIN:VEVENT
DTSTART;VALUE=DATE:20250116
DTEND;VALUE=DATE:20250117
DTSTAMP:20260425T155240
CREATED:20250102T154411Z
LAST-MODIFIED:20250102T154411Z
UID:11011-1736985600-1737071999@generationsllc.org
SUMMARY:Thursday at the HUB
DESCRIPTION:For Our Friends of Adult Home and Community Services\, come join us for engaging\, interactive activities throughout the month. \n–Activities:   Cooking\, Hiking Group\, Mall\, Shopping\, Coffee Social \n**Your chosen regular planned activities will be highlighted when you receive your personal calendar. If you would like to change your activity\, please contact Sahidi.
URL:https://generationsllc.org/event/thursday-at-the-hub/
LOCATION:Generations\, LLC\, 912 Main St\, Waterboro\, ME\, 04087\, United States
END:VEVENT
BEGIN:VEVENT
DTSTART;VALUE=DATE:20250115
DTEND;VALUE=DATE:20250116
DTSTAMP:20260425T155240
CREATED:20250102T154834Z
LAST-MODIFIED:20250102T154834Z
UID:11017-1736899200-1736985599@generationsllc.org
SUMMARY:Wednesday at the HUB
DESCRIPTION:For Our Friends of Adult Home and Community Services\, come join us for engaging\, interactive activities throughout the month. \n–AM Activities:   Adventures Group\, Outing\, Visit the Library\, Shopping\, Hiking \n–PM Activities:   Swimming at the YMCA\, Outing\, Art and Crafts \n**Your chosen regular planned activities will be highlighted when you receive your personal calendar. If you would like to change your activity\, please contact Sahidi.
URL:https://generationsllc.org/event/wednesday-at-the-hub/
LOCATION:Generations\, LLC\, 912 Main St\, Waterboro\, ME\, 04087\, United States
END:VEVENT
BEGIN:VEVENT
DTSTART;VALUE=DATE:20250115
DTEND;VALUE=DATE:20250116
DTSTAMP:20260425T155240
CREATED:20250102T153602Z
LAST-MODIFIED:20250102T153643Z
UID:11004-1736899200-1736985599@generationsllc.org
SUMMARY:Friday at the HUB
DESCRIPTION:For Our Friends of Adult Home and Community Services\, come join us for engaging\, interactive activities throughout the month. \n–AM Activities:   Hygiene and Spa Day\, Yoga\, Meditation\, outing \n–PM Activities:   Swimming at the YMCA\, Outing\, Library \n**Your chosen regular planned activities will be highlighted when you receive your personal calendar. If you would like to change your activity\, please contact Sahidi.
URL:https://generationsllc.org/event/friday_at_the_hub/
LOCATION:Generations\, LLC\, 912 Main St\, Waterboro\, ME\, 04087\, United States
END:VEVENT
BEGIN:VEVENT
DTSTART;VALUE=DATE:20250114
DTEND;VALUE=DATE:20250115
DTSTAMP:20260425T155240
CREATED:20250102T155208Z
LAST-MODIFIED:20250102T155208Z
UID:11023-1736812800-1736899199@generationsllc.org
SUMMARY:Tuesday at the HUB
DESCRIPTION:For Our Friends of Adult Home and Community Services\, come join us for engaging\, interactive activities throughout the month. \n–Activities:   Bowling\, Shopping\, Volunteer at the Library\, Gaming \n**Your chosen regular planned activities will be highlighted when you receive your personal calendar. If you would like to change your activity\, please contact Sahidi.
URL:https://generationsllc.org/event/tuesday-at-the-hub/
LOCATION:Generations\, LLC\, 912 Main St\, Waterboro\, ME\, 04087\, United States
END:VEVENT
BEGIN:VEVENT
DTSTART;VALUE=DATE:20250113
DTEND;VALUE=DATE:20250114
DTSTAMP:20260425T155240
CREATED:20250102T161539Z
LAST-MODIFIED:20250102T161539Z
UID:11031-1736726400-1736812799@generationsllc.org
SUMMARY:Monday at the HUB
DESCRIPTION:For Our Friends of Adult Home and Community Services\, come join us for engaging\, interactive activities throughout the month. \n–AM Activities:   Animal Rescue\, Cooking\, Job Club\, Outing\, D&D game \n–PM Activities:   Visit the Library\, Outing\, Swimming at the YMCA\, D&D game \n**Your chosen regular planned activities will be highlighted when you receive your personal calendar. If you would like to change your activity\, please contact Sahidi.
URL:https://generationsllc.org/event/monday-at-the-hub/
LOCATION:Generations\, LLC\, 912 Main St\, Waterboro\, ME\, 04087\, United States
END:VEVENT
BEGIN:VEVENT
DTSTART;VALUE=DATE:20250110
DTEND;VALUE=DATE:20250111
DTSTAMP:20260425T155240
CREATED:20241206T180503Z
LAST-MODIFIED:20250102T151105Z
UID:10917-1736467200-1736553599@generationsllc.org
SUMMARY:Friday at the HUB
DESCRIPTION:For Our Friends of Adult Home and Community Services\, come join us for engaging\, interactive activities throughout the month. \n–AM Activities:   Hygiene and Spa Day\, Yoga\, Meditation\, outing \n–PM Activities:   Swimming at the YMCA\, Outing\, Shopping \n**Your chosen regular planned activities will be highlighted when you receive your personal calendar. If you would like to change your activity\, please contact Sahidi.
URL:https://generationsllc.org/event/fridays-list-3/
LOCATION:Generations\, LLC\, 912 Main St\, Waterboro\, ME\, 04087\, United States
END:VEVENT
BEGIN:VEVENT
DTSTART;VALUE=DATE:20250109
DTEND;VALUE=DATE:20250110
DTSTAMP:20260425T155240
CREATED:20241206T175535Z
LAST-MODIFIED:20250102T145747Z
UID:10905-1736380800-1736467199@generationsllc.org
SUMMARY:Thursday at the HUB
DESCRIPTION:For Our Friends of Adult Home and Community Services\, come join us for engaging\, interactive activities throughout the month. \n–Activities:   Cooking\, Hiking Group\, Mall\, Shopping \n**Your chosen regular planned activities will be highlighted when you receive your personal calendar. If you would like to change your activity\, please contact Sahidi.
URL:https://generationsllc.org/event/thursdays-list-2/
LOCATION:Generations\, LLC\, 912 Main St\, Waterboro\, ME\, 04087\, United States
END:VEVENT
BEGIN:VEVENT
DTSTART;VALUE=DATE:20250108
DTEND;VALUE=DATE:20250109
DTSTAMP:20260425T155240
CREATED:20241206T175345Z
LAST-MODIFIED:20250102T145619Z
UID:10903-1736294400-1736380799@generationsllc.org
SUMMARY:Wednesday at the HUB
DESCRIPTION:For Our Friends of Adult Home and Community Services\, come join us for engaging\, interactive activities throughout the month. \n–AM Activities:   Adventures Group\, Outing\, Visit the Library\, Shopping\, Hiking \n–PM Activities:   Swimming at the YMCA\, Outing\, Art and Crafts \n**Your chosen regular planned activities will be highlighted when you receive your personal calendar. If you would like to change your activity\, please contact Sahidi.
URL:https://generationsllc.org/event/wednesdays-list-2/
LOCATION:Generations\, LLC\, 912 Main St\, Waterboro\, ME\, 04087\, United States
END:VEVENT
BEGIN:VEVENT
DTSTART;VALUE=DATE:20250107
DTEND;VALUE=DATE:20250108
DTSTAMP:20260425T155240
CREATED:20241206T180838Z
LAST-MODIFIED:20250102T145450Z
UID:10921-1736208000-1736294399@generationsllc.org
SUMMARY:Tuesday at the HUB
DESCRIPTION:For Our Friends of Adult Home and Community Services\, come join us for engaging\, interactive activities throughout the month. \n–Activities:   Bowling\, Shopping\, Volunteer at the Library\, Gaming \n**Your chosen regular planned activities will be highlighted when you receive your personal calendar. If you would like to change your activity\, please contact Sahidi.
URL:https://generationsllc.org/event/tuesdays-list-3/
LOCATION:Generations\, LLC\, 912 Main St\, Waterboro\, ME\, 04087\, United States
END:VEVENT
BEGIN:VEVENT
DTSTART;VALUE=DATE:20250106
DTEND;VALUE=DATE:20250107
DTSTAMP:20260425T155240
CREATED:20241206T180732Z
LAST-MODIFIED:20250102T144350Z
UID:10919-1736121600-1736207999@generationsllc.org
SUMMARY:Monday at the HUB
DESCRIPTION:For Our Friends of Adult Home and Community Services\, come join us for engaging\, interactive activities throughout the month. \n–AM Activities:   Animal Rescue\, Cooking\, Job Club\, Outing\, D&D game \n–PM Activities:   Visit the Library\, Outing\, Swimming at the YMCA\, D&D game \n  \n**Your chosen regular planned activities will be highlighted when you receive your personal calendar. If you would like to change your activity\, please contact Sahidi.
URL:https://generationsllc.org/event/mondays-list-3/
LOCATION:Generations\, LLC\, 912 Main St\, Waterboro\, ME\, 04087\, United States
END:VEVENT
BEGIN:VEVENT
DTSTART;TZID=UTC:20250102T143000
DTEND;TZID=UTC:20250102T161500
DTSTAMP:20260425T155240
CREATED:20241227T173244Z
LAST-MODIFIED:20241227T175844Z
UID:10979-1735828200-1735834500@generationsllc.org
SUMMARY:Winter Watercolor Collaborative Artwork
DESCRIPTION:Friends of Children’s Services are welcome to come join us for engaging activities and creative crafts with friends throughout the month. \nCome meet up to do a Winter Watercolor Collaborative Artwork and join in our annual January Get Fit Challenge.
URL:https://generationsllc.org/event/winter-watercolor-collaborative-artwork/
LOCATION:Generations\, LLC\, 912 Main St\, Waterboro\, ME\, 04087\, United States
ORGANIZER;CN="Hannah":MAILTO:hwelsh.generations@gmail.com
END:VEVENT
BEGIN:VEVENT
DTSTART;VALUE=DATE:20241226
DTEND;VALUE=DATE:20241227
DTSTAMP:20260425T155240
CREATED:20241206T180348Z
LAST-MODIFIED:20241206T180348Z
UID:10915-1735171200-1735257599@generationsllc.org
SUMMARY:Thursday's List
DESCRIPTION:–Activities:   Cooking\, Hiking Group\, Mall\, Coffee Social\, Shopping \nFor Our Friends of Adult Home and Community Services\, come join us for engaging\, interactive activities throughout the month. \n**Your chosen regular planned activities will be highlighted when you receive your personal calendar. If you would like to change your activity\, please contact Sahidi.
URL:https://generationsllc.org/event/thursdays-list-3/
LOCATION:ME
END:VEVENT
BEGIN:VEVENT
DTSTART;VALUE=DATE:20241225
DTEND;VALUE=DATE:20241226
DTSTAMP:20260425T155240
CREATED:20241206T180233Z
LAST-MODIFIED:20241206T180233Z
UID:10913-1735084800-1735171199@generationsllc.org
SUMMARY:Christmas Day - Closed
DESCRIPTION:Generations wishes you all a safe and happy holiday season.
URL:https://generationsllc.org/event/christmas-day-closed/
LOCATION:ME
END:VEVENT
BEGIN:VEVENT
DTSTART;VALUE=DATE:20241224
DTEND;VALUE=DATE:20241225
DTSTAMP:20260425T155240
CREATED:20241206T180051Z
LAST-MODIFIED:20241206T180051Z
UID:10911-1734998400-1735084799@generationsllc.org
SUMMARY:Christmas Eve - CLOSED
DESCRIPTION:Generations wishes you all a safe and happy holiday season.
URL:https://generationsllc.org/event/christmas-eve-closed/
LOCATION:ME
END:VEVENT
BEGIN:VEVENT
DTSTART;VALUE=DATE:20241223
DTEND;VALUE=DATE:20241224
DTSTAMP:20260425T155240
CREATED:20241206T175844Z
LAST-MODIFIED:20241206T175844Z
UID:10909-1734912000-1734998399@generationsllc.org
SUMMARY:Monday's List
DESCRIPTION:–Activities:   Animal Rescue\, Cooking\, Outing\, D&D game\, Christmas Party and Lunch 12-4 \nFor Our Friends of Adult Home and Community Services\, come join us for engaging\, interactive activities throughout the month. \n**Your chosen regular planned activities will be highlighted when you receive your personal calendar. If you would like to change your activity\, please contact Sahidi.
URL:https://generationsllc.org/event/mondays-list-2/
LOCATION:ME
END:VEVENT
BEGIN:VEVENT
DTSTART;TZID=UTC:20241220T080000
DTEND;TZID=UTC:20241220T170000
DTSTAMP:20260425T155240
CREATED:20241206T175659Z
LAST-MODIFIED:20241206T175659Z
UID:10907-1734681600-1734714000@generationsllc.org
SUMMARY:Friday's List
DESCRIPTION:–AM Activities:   Hygiene and Spa Day \n–PM Activities:   Outing\, Library\, Swimming at the YMCA\, “Ugly” Sweater Friday \nFor Our Friends of Adult Home and Community Services\, come join us for engaging\, interactive activities throughout the month. \n**Your chosen regular planned activities will be highlighted when you receive your personal calendar. If you would like to change your activity\, please contact Sahidi.
URL:https://generationsllc.org/event/fridays-list-2/
LOCATION:ME
END:VEVENT
BEGIN:VEVENT
DTSTART;TZID=UTC:20241219T144500
DTEND;TZID=UTC:20241219T161500
DTSTAMP:20260425T155240
CREATED:20241206T151035Z
LAST-MODIFIED:20241206T151035Z
UID:10882-1734619500-1734624900@generationsllc.org
SUMMARY:Holiday Charades and Hot Cocoa
DESCRIPTION:Come warm up with us at our Holiday Charades party and have a mug of cocoa. \nFriends of Children’s Services are welcome to come join us for engaging activities and creative crafts with friends throughout the month.
URL:https://generationsllc.org/event/holiday-charades-and-hot-cocoa/
LOCATION:ME
ORGANIZER;CN="Hannah":MAILTO:hwelsh.generations@gmail.com
END:VEVENT
BEGIN:VEVENT
DTSTART;VALUE=DATE:20241217
DTEND;VALUE=DATE:20241218
DTSTAMP:20260425T155240
CREATED:20241206T175202Z
LAST-MODIFIED:20241206T175202Z
UID:10901-1734393600-1734479999@generationsllc.org
SUMMARY:Tuesday's List
DESCRIPTION:–Activities:   Bowling\, Shopping\, Volunteer at the Library\, Gaming \nFor Our Friends of Adult Home and Community Services\, come join us for engaging\, interactive activities throughout the month. \n**Your chosen regular planned activities will highlighted when you receive your personal calendar. If you would like to change your activity\, please contact Sahidi.
URL:https://generationsllc.org/event/tuesdays-list-2/
LOCATION:ME
END:VEVENT
BEGIN:VEVENT
DTSTART;VALUE=DATE:20241216
DTEND;VALUE=DATE:20241217
DTSTAMP:20260425T155240
CREATED:20241206T175020Z
LAST-MODIFIED:20241206T175020Z
UID:10899-1734307200-1734393599@generationsllc.org
SUMMARY:Monday's List
DESCRIPTION:–AM Activities:   Animal Rescue\, Cooking\, Job Club\, Outing\, D&D game. \n–PM Activities:   Visit the Library\, Swimming at the YMCA\, Outing\, D&D game. \nFor Our Friends of Adult Home and Community Services\, come join us for engaging\, interactive activities throughout the month. \n**Your chosen regular planned activities will highlighted when you receive your personal calendar. If you would like to change your activity\, please contact Sahidi.
URL:https://generationsllc.org/event/mondays-list/
LOCATION:ME
END:VEVENT
BEGIN:VEVENT
DTSTART;VALUE=DATE:20241213
DTEND;VALUE=DATE:20241214
DTSTAMP:20260425T155240
CREATED:20241206T174723Z
LAST-MODIFIED:20241206T174852Z
UID:10897-1734048000-1734134399@generationsllc.org
SUMMARY:Friday's List
DESCRIPTION:–AM Activities:   Hygiene and Spa Day\, Yoga\, Meditation\, Outing \n–PM Activities:   Swimming at the YMCA\, Shopping\, outing\, “UGLY” SWEATER FRIDAY \nFor Our Friends of Adult Home and Community Services\, come join us for engaging\, interactive activities throughout the month. \n**Your chosen regular planned activities will highlighted when you receive your personal calendar. If you would like to change your activity\, please contact Sahidi.
URL:https://generationsllc.org/event/fridays-list/
LOCATION:ME
END:VEVENT
BEGIN:VEVENT
DTSTART;TZID=UTC:20241212T144500
DTEND;TZID=UTC:20241212T161500
DTSTAMP:20260425T155240
CREATED:20241206T150645Z
LAST-MODIFIED:20241206T150645Z
UID:10880-1734014700-1734020100@generationsllc.org
SUMMARY:Buddy the Elf Bark
DESCRIPTION:Come make Buddy the Elf  bark with friends!! \nFriends of Children’s Services are welcome to come join us for engaging activities and creative crafts with friends throughout the month.
URL:https://generationsllc.org/event/buddy-the-elf-bark/
LOCATION:ME
ORGANIZER;CN="Hannah":MAILTO:hwelsh.generations@gmail.com
END:VEVENT
BEGIN:VEVENT
DTSTART;VALUE=DATE:20241212
DTEND;VALUE=DATE:20241213
DTSTAMP:20260425T155240
CREATED:20241206T174415Z
LAST-MODIFIED:20241206T174415Z
UID:10895-1733961600-1734047999@generationsllc.org
SUMMARY:Thursday's List
DESCRIPTION:–Activities:   Cooking\, Hiking Group\, Visit the Mall\, Coffee Social\, Shopping \nFor Our Friends of Adult Home and Community Services\, come join us for engaging\, interactive activities throughout the month. \n**Your chosen regular planned activities will be highlighted when you receive your personal calendar. If you would like to change your activity\, please contact Sahidi.
URL:https://generationsllc.org/event/thursdays-list/
LOCATION:ME
END:VEVENT
BEGIN:VEVENT
DTSTART;VALUE=DATE:20241211
DTEND;VALUE=DATE:20241212
DTSTAMP:20260425T155240
CREATED:20241206T174112Z
LAST-MODIFIED:20241206T174112Z
UID:10893-1733875200-1733961599@generationsllc.org
SUMMARY:Wednesday's List
DESCRIPTION:–AM Activities:   Adventure Group\, Visit the Library\, Shopping\, Hiking \n–PM Activities:   Swimming at the YMCA\, Arts and Crafts\, Outing \nFor Our Friends of Adult Home and Community Services\, come join us for engaging\, interactive activities throughout the month. \n**Your chosen regular planned activities will be highlighted when you receive your personal calendar. If you would like to change your activity\, please contact Sahidi.
URL:https://generationsllc.org/event/wednesdays-list/
LOCATION:ME
END:VEVENT
BEGIN:VEVENT
DTSTART;VALUE=DATE:20241210
DTEND;VALUE=DATE:20241211
DTSTAMP:20260425T155240
CREATED:20241206T173855Z
LAST-MODIFIED:20241206T173855Z
UID:10891-1733788800-1733875199@generationsllc.org
SUMMARY:Tuesday's List
DESCRIPTION:–Activities:   Bowling\, Shopping\, Volunteer at the Library\, Gaming \nFor Our Friends of Adult Home and Community Services\, come join us for engaging\, interactive activities throughout the month. \n**Your chosen regular planned activities will be highlighted when you receive your personal calendar. If you would like to change your activity\, please contact Sahidi.
URL:https://generationsllc.org/event/tuesdays-list/
LOCATION:ME
END:VEVENT
END:VCALENDAR