BEGIN:VCALENDAR
VERSION:2.0
PRODID:-//Generations LLC - ECPv6.15.20//NONSGML v1.0//EN
CALSCALE:GREGORIAN
METHOD:PUBLISH
X-ORIGINAL-URL:https://generationsllc.org
X-WR-CALDESC:Events for Generations LLC
REFRESH-INTERVAL;VALUE=DURATION:PT1H
X-Robots-Tag:noindex
X-PUBLISHED-TTL:PT1H
BEGIN:VTIMEZONE
TZID:UTC
BEGIN:STANDARD
TZOFFSETFROM:+0000
TZOFFSETTO:+0000
TZNAME:UTC
DTSTART:20250101T000000
END:STANDARD
END:VTIMEZONE
BEGIN:VEVENT
DTSTART;VALUE=DATE:20260429
DTEND;VALUE=DATE:20260430
DTSTAMP:20260423T192122
CREATED:20260411T210116Z
LAST-MODIFIED:20260411T210116Z
UID:11831-1777420800-1777507199@generationsllc.org
SUMMARY:Wednesday at the HUB
DESCRIPTION:–AM Activities: Outing\, Library\, Shopping\, Line dancing or basketball\, Adventure group\n–PM Activities: YMCA\, Fitness club\, Outing\, Arts and crafts
URL:https://generationsllc.org/event/wednesday-at-the-hub-35/
END:VEVENT
BEGIN:VEVENT
DTSTART;VALUE=DATE:20260430
DTEND;VALUE=DATE:20260501
DTSTAMP:20260423T192122
CREATED:20260411T210258Z
LAST-MODIFIED:20260411T210316Z
UID:11833-1777507200-1777593599@generationsllc.org
SUMMARY:Thursday at the HUB
DESCRIPTION:–Activities: Cooking\, Shopping\, Mall (budget club)\, Social projects and activities
URL:https://generationsllc.org/event/thursday-at-the-hub-31/
END:VEVENT
END:VCALENDAR