BEGIN:VCALENDAR
VERSION:2.0
PRODID:-//Generations LLC - ECPv6.15.20//NONSGML v1.0//EN
CALSCALE:GREGORIAN
METHOD:PUBLISH
X-WR-CALNAME:Generations LLC
X-ORIGINAL-URL:https://generationsllc.org
X-WR-CALDESC:Events for Generations LLC
REFRESH-INTERVAL;VALUE=DURATION:PT1H
X-Robots-Tag:noindex
X-PUBLISHED-TTL:PT1H
BEGIN:VTIMEZONE
TZID:UTC
BEGIN:STANDARD
TZOFFSETFROM:+0000
TZOFFSETTO:+0000
TZNAME:UTC
DTSTART:20250101T000000
END:STANDARD
END:VTIMEZONE
BEGIN:VEVENT
DTSTART;VALUE=DATE:20260219
DTEND;VALUE=DATE:20260220
DTSTAMP:20260423T222428
CREATED:20260205T145135Z
LAST-MODIFIED:20260205T145135Z
UID:11652-1771459200-1771545599@generationsllc.org
SUMMARY:Thursday at the HUB
DESCRIPTION:-Activities:   Cooking\, Shopping Mall (budget club)\, Social Project and Activities \n  \nFor Our Friends of Adult Home and Community Services\, come join us for engaging\, interactive activities throughout the month.
URL:https://generationsllc.org/event/thursday-at-the-hub-24/
LOCATION:Generations\, LLC\, 912 Main St\, Waterboro\, ME\, 04087\, United States
END:VEVENT
BEGIN:VEVENT
DTSTART;VALUE=DATE:20260220
DTEND;VALUE=DATE:20260221
DTSTAMP:20260423T222428
CREATED:20260205T145725Z
LAST-MODIFIED:20260205T145725Z
UID:11660-1771545600-1771631999@generationsllc.org
SUMMARY:Friday at the HUB
DESCRIPTION:-AM Activities:   Work Skills and Education Group\, Relationship Group\, Outing\, Meow Cafe \n-PM Activities:    Swimming at the YMCA\, Shopping and Budgeting Skills Group \n  \nFor Our Friends of Adult Home and Community Services\, come join us for engaging\, interactive activities throughout the month.
URL:https://generationsllc.org/event/friday-at-the-hub-24/
LOCATION:Generations\, LLC\, 912 Main St\, Waterboro\, ME\, 04087\, United States
END:VEVENT
BEGIN:VEVENT
DTSTART;VALUE=DATE:20260223
DTEND;VALUE=DATE:20260224
DTSTAMP:20260423T222428
CREATED:20260205T141515Z
LAST-MODIFIED:20260205T141515Z
UID:11630-1771804800-1771891199@generationsllc.org
SUMMARY:Monday at the HUB
DESCRIPTION:–AM Activities:   Horse Rescue -or- YMCA\, Library\, Craft\, Outing\, Trip to Peary MacMillan Arctic Museum \n–PM Activities:   Visit the Library\, Outing\, Swimming at the YMCA -or- Line Dancing \n**Your chosen regular planned activities will be highlighted when you receive your personal calendar. If you would like to change your activity\, please contact Sahidi. \n  \n  \nFor Our Friends of Adult Home and Community Services\, come join us for engaging\, interactive activities throughout the month.
URL:https://generationsllc.org/event/monday-at-the-hub-26/
LOCATION:Generations\, LLC\, 912 Main St\, Waterboro\, ME\, 04087\, United States
END:VEVENT
BEGIN:VEVENT
DTSTART;VALUE=DATE:20260224
DTEND;VALUE=DATE:20260225
DTSTAMP:20260423T222428
CREATED:20260205T142536Z
LAST-MODIFIED:20260205T142536Z
UID:11638-1771891200-1771977599@generationsllc.org
SUMMARY:Tuesday at the HUB
DESCRIPTION:Todays Activities: Bowling\, Volunteer at Parsons library\, Gaming club\, Social Skills Group and Project \n**Your chosen regular planned activities will be highlighted when you receive your personal calendar. If you would like to change your activity\, please contact Sahidi. \n  \n  \nFor Our Friends of Adult Home and Community Services\, come join us for engaging\, interactive activities throughout the month.
URL:https://generationsllc.org/event/tuesday-at-the-hub-29/
LOCATION:Generations\, LLC\, 912 Main St\, Waterboro\, ME\, 04087\, United States
ORGANIZER;CN="Hannah":MAILTO:hwelsh.generations@gmail.com
END:VEVENT
BEGIN:VEVENT
DTSTART;VALUE=DATE:20260225
DTEND;VALUE=DATE:20260226
DTSTAMP:20260423T222428
CREATED:20260205T144555Z
LAST-MODIFIED:20260205T144555Z
UID:11646-1771977600-1772063999@generationsllc.org
SUMMARY:Wednesday at the HUB
DESCRIPTION:– AM Activities:    Adventure Group\, Outing\, Library\, Shopping\, Line Dancing -or- Basketball \n–PM Activities:   Swimming at the YMCA\, Outing\, Art and Crafts \n**Your chosen regular planned activities will be highlighted when you receive your personal calendar. If you would like to change your activity\, please contact Sahidi. \n  \nFor Our Friends of Adult Home and Community Services\, come join us for engaging\, interactive activities throughout the month.
URL:https://generationsllc.org/event/wednesday-at-the-hub-29/
LOCATION:Generations\, LLC\, 912 Main St\, Waterboro\, ME\, 04087\, United States
END:VEVENT
BEGIN:VEVENT
DTSTART;VALUE=DATE:20260226
DTEND;VALUE=DATE:20260227
DTSTAMP:20260423T222428
CREATED:20260205T145237Z
LAST-MODIFIED:20260205T145237Z
UID:11654-1772064000-1772150399@generationsllc.org
SUMMARY:Thursday at the HUB
DESCRIPTION:-Activities:   Cooking\, Shopping Mall (budget club)\, Volunteer Group \n  \nFor Our Friends of Adult Home and Community Services\, come join us for engaging\, interactive activities throughout the month.
URL:https://generationsllc.org/event/thursday-at-the-hub-25/
LOCATION:Generations\, LLC\, 912 Main St\, Waterboro\, ME\, 04087\, United States
END:VEVENT
BEGIN:VEVENT
DTSTART;VALUE=DATE:20260227
DTEND;VALUE=DATE:20260228
DTSTAMP:20260423T222428
CREATED:20260205T150021Z
LAST-MODIFIED:20260205T150021Z
UID:11662-1772150400-1772236799@generationsllc.org
SUMMARY:Friday at the HUB
DESCRIPTION:-AM Activities:   Volunteer Group and Activities\, Relationship Group\, Outing\, Meow Cafe \n-PM Activities:    Workout Club at the YMCA\, Outing\, Shopping for Household Items Group \n  \nFor Our Friends of Adult Home and Community Services\, come join us for engaging\, interactive activities throughout the month.
URL:https://generationsllc.org/event/friday-at-the-hub-25/
LOCATION:Generations\, LLC\, 912 Main St\, Waterboro\, ME\, 04087\, United States
END:VEVENT
BEGIN:VEVENT
DTSTART;VALUE=DATE:20260302
DTEND;VALUE=DATE:20260303
DTSTAMP:20260423T222428
CREATED:20260225T183857Z
LAST-MODIFIED:20260225T183857Z
UID:11667-1772409600-1772495999@generationsllc.org
SUMMARY:Monday at the HUB
DESCRIPTION:–AM Activities:   Horse Rescue -or- YMCA\, Library\, Craft\, Outing\, D&D game club \n–PM Activities:   Visit the Library\, Outing\, Swimming at the YMCA -or- Line Dancing\, D&D game club\, Social Club \n  \nFor Our Friends of Adult Home and Community Services\, come join us for engaging\, interactive activities throughout the month.
URL:https://generationsllc.org/event/monday-at-the-hub-27/
LOCATION:Generations\, LLC\, 912 Main St\, Waterboro\, ME\, 04087\, United States
END:VEVENT
BEGIN:VEVENT
DTSTART;VALUE=DATE:20260309
DTEND;VALUE=DATE:20260310
DTSTAMP:20260423T222428
CREATED:20260225T184033Z
LAST-MODIFIED:20260225T184033Z
UID:11669-1773014400-1773100799@generationsllc.org
SUMMARY:Monday at the HUB
DESCRIPTION:–AM Activities:   Horse Rescue -or- YMCA\, Library\, Craft\, Outing\, D&D game club \n–PM Activities:   Visit the Library\, Outing\, Swimming at the YMCA -or- Line Dancing\, D&D game club\, Social Club \n  \nFor Our Friends of Adult Home and Community Services\, come join us for engaging\, interactive activities throughout the month.
URL:https://generationsllc.org/event/monday-at-the-hub-28/
LOCATION:Generations\, LLC\, 912 Main St\, Waterboro\, ME\, 04087\, United States
END:VEVENT
BEGIN:VEVENT
DTSTART;VALUE=DATE:20260323
DTEND;VALUE=DATE:20260324
DTSTAMP:20260423T222428
CREATED:20260321T112628Z
LAST-MODIFIED:20260321T122000Z
UID:11751-1774224000-1774310399@generationsllc.org
SUMMARY:Monday at the HUB
DESCRIPTION:–AM Activities: Horse Rescue or YMCA Outing/Library/craft/D&D/Outing. \n–PM Activities: Outing\Library\, YMCA or line dancing\, Outing/D&D/Social club. \n***Your chosen regular planned activities will be highlighted when you receive your personal calendar. If you would like to change your activity\, please contact Sahidi. \n  \nFor Our Friends of Adult Home and Community Services\, come join us for engaging\, interactive activities throughout the month.
URL:https://generationsllc.org/event/monday-at-the-hub-29/
END:VEVENT
BEGIN:VEVENT
DTSTART;VALUE=DATE:20260324
DTEND;VALUE=DATE:20260325
DTSTAMP:20260423T222428
CREATED:20260321T122936Z
LAST-MODIFIED:20260321T124122Z
UID:11760-1774310400-1774396799@generationsllc.org
SUMMARY:Tuesday at the HUB
DESCRIPTION:–Activities: Bowling\, Volunteer at Parsons library\, Gaming Club activities\, Social skills group and project \n  \n***Your chosen regular planned activities will be highlighted when you receive your personal calendar. If you would like to change your activity\, please contact Sahidi. \nFor Our Friends of Adult Home and Community Services\, come join us for engaging\, interactive activities throughout the month.
URL:https://generationsllc.org/event/tuesday-at-the-hub-30/
END:VEVENT
BEGIN:VEVENT
DTSTART;VALUE=DATE:20260325
DTEND;VALUE=DATE:20260326
DTSTAMP:20260423T222428
CREATED:20260321T124502Z
LAST-MODIFIED:20260321T124524Z
UID:11769-1774396800-1774483199@generationsllc.org
SUMMARY:Wednesday at the HUB
DESCRIPTION:–AM Activities: Outing\, Library\, Shopping\, Line dancing\Basketball\, Adventure group \n–PM Activities: YMCA\, Outing\Arts and crafts \n***Your chosen regular planned activities will be highlighted when you receive your personal calendar. If you would like to change your activity\, please contact Sahidi. \nFor Our Friends of Adult Home and Community Services\, come join us for engaging\, interactive activities throughout the month. \n 
URL:https://generationsllc.org/event/wednesday-at-the-hub-30/
END:VEVENT
BEGIN:VEVENT
DTSTART;VALUE=DATE:20260326
DTEND;VALUE=DATE:20260327
DTSTAMP:20260423T222428
CREATED:20260321T124855Z
LAST-MODIFIED:20260321T124855Z
UID:11771-1774483200-1774569599@generationsllc.org
SUMMARY: Thursday at the HUB
DESCRIPTION:–Activities: Cooking\, Shopping Mall (Budget club)\, Social project and activities \n  \n***Your chosen regular planned activities will be highlighted when you receive your personal calendar. If you would like to change your activity\, please contact Sahidi. \nFor Our Friends of Adult Home and Community Services\, come join us for engaging\, interactive activities throughout the month.
URL:https://generationsllc.org/event/thursday-at-the-hub-26/
END:VEVENT
BEGIN:VEVENT
DTSTART;VALUE=DATE:20260327
DTEND;VALUE=DATE:20260328
DTSTAMP:20260423T222428
CREATED:20260321T125300Z
LAST-MODIFIED:20260321T125350Z
UID:11773-1774569600-1774655999@generationsllc.org
SUMMARY:Friday at the HUB
DESCRIPTION:–AM Activities: Meow Cafe\, Trip to Peary-MacMillan arctic museum – Please RSVP by the 23rd \n–PM Activities: YMCA\, Shopping and budget skills \n***Your chosen regular planned activities will be highlighted when you receive your personal calendar. If you would like to change your activity\, please contact Sahidi. \nFor Our Friends of Adult Home and Community Services\, come join us for engaging\, interactive activities throughout the month.
URL:https://generationsllc.org/event/friday-at-the-hub-26/
END:VEVENT
BEGIN:VEVENT
DTSTART;VALUE=DATE:20260330
DTEND;VALUE=DATE:20260331
DTSTAMP:20260423T222428
CREATED:20260321T122527Z
LAST-MODIFIED:20260321T122527Z
UID:11758-1774828800-1774915199@generationsllc.org
SUMMARY:Monday at the HUB
DESCRIPTION:–AM Activities: Horse Rescue -or- YMCA Outing\, Library\, Craft \n–PM Activities: Outing/Library/YMCA -or- Line Dancing \n***Your chosen regular planned activities will be highlighted when you receive your personal calendar. If you would like to change your activity\, please contact Sahidi. \n&nbsp; \nFor Our Friends of Adult Home and Community Services\, come join us for engaging\, interactive activities throughout the month. \n&nbsp;
URL:https://generationsllc.org/event/monday-at-the-hub-30/
END:VEVENT
BEGIN:VEVENT
DTSTART;VALUE=DATE:20260331
DTEND;VALUE=DATE:20260401
DTSTAMP:20260423T222428
CREATED:20260321T123536Z
LAST-MODIFIED:20260321T123933Z
UID:11762-1774915200-1775001599@generationsllc.org
SUMMARY:Tuesday at the HUB
DESCRIPTION:-Activities: Bowling\, Volunteer at Parsons library\, Gaming Club activities\, social skills group and project \n***Your chosen regular planned activities will be highlighted when you receive your personal calendar. If you would like to change your activity\, please contact Sahidi. \nFor Our Friends of Adult Home and Community Services\, come join us for engaging\, interactive activities throughout the month.
URL:https://generationsllc.org/event/tuesday-at-the-hub-31/
END:VEVENT
BEGIN:VEVENT
DTSTART;VALUE=DATE:20260401
DTEND;VALUE=DATE:20260402
DTSTAMP:20260423T222428
CREATED:20260410T233838Z
LAST-MODIFIED:20260410T234738Z
UID:11776-1775001600-1775087999@generationsllc.org
SUMMARY:Wednesday at the HUB
DESCRIPTION:–AM Activities:   Adventure Group\, Outing\, Library\, Shopping\, Line Dancing or Basketball \n–PM Activities:   YMCA\, Fitness club\, Outing\, Art and Crafts \n**Your chosen regular planned activities will be highlighted when you receive your personal calendar. If you would like to change your activity\, please contact Sahidi. \nFor Our Friends of Adult Home and Community Services\, come join us for engaging\, interactive activities throughout the month.
URL:https://generationsllc.org/event/wednesday-at-the-hub-31/
END:VEVENT
BEGIN:VEVENT
DTSTART;VALUE=DATE:20260402
DTEND;VALUE=DATE:20260403
DTSTAMP:20260423T222428
CREATED:20260410T234302Z
LAST-MODIFIED:20260410T234805Z
UID:11778-1775088000-1775174399@generationsllc.org
SUMMARY:Thursday at the HUB
DESCRIPTION:–Activities: Cooking\, Shopping\, Mall (Budget club)\, Volunteer group\, Work skills and education group\, Coffee social \n***Your chosen regular planned activities will be highlighted when you receive your personal calendar. If you would like to change your activity\, please contact Sahidi. \nFor Our Friends of Adult Home and Community Services\, come join us for engaging\, interactive activities throughout the month.
URL:https://generationsllc.org/event/thursday-at-the-hub-27/
END:VEVENT
BEGIN:VEVENT
DTSTART;VALUE=DATE:20260403
DTEND;VALUE=DATE:20260404
DTSTAMP:20260423T222428
CREATED:20260410T235118Z
LAST-MODIFIED:20260410T235118Z
UID:11781-1775174400-1775260799@generationsllc.org
SUMMARY:Friday at the HUB
DESCRIPTION:–AM Activities: Walking the Mall\, Relationship group\, Outing\, Meow Cafe\, Volunteer club \n–PM Activities: YMCA\, Outing\, Shopping \n***Your chosen regular planned activities will be highlighted when you receive your personal calendar. If you would like to change your activity\, please contact Sahidi. \nFor Our Friends of Adult Home and Community Services\, come join us for engaging\, interactive activities throughout the month.
URL:https://generationsllc.org/event/friday-at-the-hub-27/
END:VEVENT
BEGIN:VEVENT
DTSTART;VALUE=DATE:20260406
DTEND;VALUE=DATE:20260407
DTSTAMP:20260423T222428
CREATED:20260410T235452Z
LAST-MODIFIED:20260410T235452Z
UID:11783-1775433600-1775519999@generationsllc.org
SUMMARY:Monday at the HUB
DESCRIPTION:–AM Activities: Horse rescue or YMCA\, Outing\, Library\, Craft D&D\, Outing \n–PM Activities: Outing\, Library\, YMCA or line dancing\, Outing\, D&D\, Social club \n***Your chosen regular planned activities will be highlighted when you receive your personal calendar. If you would like to change your activity\, please contact Sahidi. \nFor Our Friends of Adult Home and Community Services\, come join us for engaging\, interactive activities throughout the month.
URL:https://generationsllc.org/event/monday-at-the-hub-31/
END:VEVENT
BEGIN:VEVENT
DTSTART;VALUE=DATE:20260407
DTEND;VALUE=DATE:20260408
DTSTAMP:20260423T222428
CREATED:20260410T235737Z
LAST-MODIFIED:20260410T235737Z
UID:11785-1775520000-1775606399@generationsllc.org
SUMMARY:Tuesday at the HUB
DESCRIPTION:–Activities: Bowling\, Volunteer at Parsons library\, Gaming club activities\, Exploring volunteer projects
URL:https://generationsllc.org/event/tuesday-at-the-hub-32/
END:VEVENT
BEGIN:VEVENT
DTSTART;VALUE=DATE:20260408
DTEND;VALUE=DATE:20260409
DTSTAMP:20260423T222428
CREATED:20260411T000111Z
LAST-MODIFIED:20260411T000111Z
UID:11787-1775606400-1775692799@generationsllc.org
SUMMARY:Wednesday at the HUB
DESCRIPTION:–AM Activities: Adventures group\, Outing\, Library\, Shopping\, Line dancing\, or basketball \n–PM Activities: YMCA\, Fitness club\, Outing\, Arts and crafts \n***Your chosen regular planned activities will be highlighted when you receive your personal calendar. If you would like to change your activity\, please contact Sahidi. \nFor Our Friends of Adult Home and Community Services\, come join us for engaging\, interactive activities throughout the month.
URL:https://generationsllc.org/event/wednesday-at-the-hub-32/
END:VEVENT
BEGIN:VEVENT
DTSTART;VALUE=DATE:20260409
DTEND;VALUE=DATE:20260410
DTSTAMP:20260423T222428
CREATED:20260411T000254Z
LAST-MODIFIED:20260411T000254Z
UID:11789-1775692800-1775779199@generationsllc.org
SUMMARY:Thursday at the HUB
DESCRIPTION:–Activities: Cooking\, Shopping\, Mall (Budget club) Social projects and activities\, Hygiene education club \n***Your chosen regular planned activities will be highlighted when you receive your personal calendar. If you would like to change your activity\, please contact Sahidi. \nFor Our Friends of Adult Home and Community Services\, come join us for engaging\, interactive activities throughout the month.
URL:https://generationsllc.org/event/thursday-at-the-hub-28/
END:VEVENT
BEGIN:VEVENT
DTSTART;VALUE=DATE:20260410
DTEND;VALUE=DATE:20260411
DTSTAMP:20260423T222428
CREATED:20260411T000448Z
LAST-MODIFIED:20260411T000448Z
UID:11791-1775779200-1775865599@generationsllc.org
SUMMARY: Friday at the HUB
DESCRIPTION:–AM Activities: Walking the Mall\, Relationship group\, Outing\, Meow Cafe\, Volunteer club \n–PM Activities: YMCA\, Outing\, Shopping
URL:https://generationsllc.org/event/friday-at-the-hub-28/
END:VEVENT
BEGIN:VEVENT
DTSTART;VALUE=DATE:20260413
DTEND;VALUE=DATE:20260414
DTSTAMP:20260423T222428
CREATED:20260411T000817Z
LAST-MODIFIED:20260411T002045Z
UID:11793-1776038400-1776124799@generationsllc.org
SUMMARY:Monday at the HUB
DESCRIPTION:–AM Activities: Horse rescue or YMCA\, Outing\, Library\, Craft\, D&D\, Outing \n–PM Activities: Outing\, Library\, YMCA or Line dancing\, Outing\, D&D\, Social club \n***Your chosen regular planned activities will be highlighted when you receive your personal calendar. If you would like to change your activity\, please contact Sahidi. \nFor Our Friends of Adult Home and Community Services\, come join us for engaging\, interactive activities throughout the month.
URL:https://generationsllc.org/event/monday-at-the-hub-32/
END:VEVENT
BEGIN:VEVENT
DTSTART;VALUE=DATE:20260414
DTEND;VALUE=DATE:20260415
DTSTAMP:20260423T222428
CREATED:20260411T001042Z
LAST-MODIFIED:20260411T001042Z
UID:11795-1776124800-1776211199@generationsllc.org
SUMMARY:Tuesday at the HUB
DESCRIPTION:–Activities: Bowling\, Volunteer at Parsons library\, Gaming club activities\, Social skills group and projects \n***Your chosen regular planned activities will be highlighted when you receive your personal calendar. If you would like to change your activity\, please contact Sahidi. \nFor Our Friends of Adult Home and Community Services\, come join us for engaging\, interactive activities throughout the month. \n 
URL:https://generationsllc.org/event/tuesday-at-the-hub-33/
END:VEVENT
BEGIN:VEVENT
DTSTART;VALUE=DATE:20260415
DTEND;VALUE=DATE:20260416
DTSTAMP:20260423T222428
CREATED:20260411T001256Z
LAST-MODIFIED:20260411T001256Z
UID:11797-1776211200-1776297599@generationsllc.org
SUMMARY:Wednesday at the HUB
DESCRIPTION:–AM Activities: Outing\, Library\, Shopping\, Line dancing or basketball\, Adventure group \n–PM Activities: YMCA\, Fitness club\, Outing\, Arts and crafts \n***Your chosen regular planned activities will be highlighted when you receive your personal calendar. If you would like to change your activity\, please contact Sahidi. \nFor Our Friends of Adult Home and Community Services\, come join us for engaging\, interactive activities throughout the month.
URL:https://generationsllc.org/event/wednesday-at-the-hub-33/
END:VEVENT
BEGIN:VEVENT
DTSTART;VALUE=DATE:20260416
DTEND;VALUE=DATE:20260417
DTSTAMP:20260423T222428
CREATED:20260411T001715Z
LAST-MODIFIED:20260411T001715Z
UID:11799-1776297600-1776383999@generationsllc.org
SUMMARY:Thursday at the HUB
DESCRIPTION:–Activities: Cooking\, Shopping\, Mall (Budget club) Volunteer group\, Work skills and education group\, Coffee social \n***Your chosen regular planned activities will be highlighted when you receive your personal calendar. If you would like to change your activity\, please contact Sahidi. \nFor Our Friends of Adult Home and Community Services\, come join us for engaging\, interactive activities throughout the month.
URL:https://generationsllc.org/event/thursday-at-the-hub-29/
END:VEVENT
BEGIN:VEVENT
DTSTART;VALUE=DATE:20260417
DTEND;VALUE=DATE:20260418
DTSTAMP:20260423T222428
CREATED:20260411T001928Z
LAST-MODIFIED:20260411T001928Z
UID:11801-1776384000-1776470399@generationsllc.org
SUMMARY: Friday at the HUB
DESCRIPTION:–AM Activities: Meow cafe\, Volunteer club\, Shopping trip\, Budget club \n–PM Activities: YMCA workout club\, Outing\, Shopping \n***Your chosen regular planned activities will be highlighted when you receive your personal calendar. If you would like to change your activity\, please contact Sahidi. \nFor Our Friends of Adult Home and Community Services\, come join us for engaging\, interactive activities throughout the month.
URL:https://generationsllc.org/event/friday-at-the-hub-29/
END:VEVENT
BEGIN:VEVENT
DTSTART;VALUE=DATE:20260420
DTEND;VALUE=DATE:20260421
DTSTAMP:20260423T222428
CREATED:20260411T002420Z
LAST-MODIFIED:20260411T002420Z
UID:11803-1776643200-1776729599@generationsllc.org
SUMMARY:Monday at the HUB
DESCRIPTION:–AM Activities: Horse rescue or YMCA\, Outing\, Library\, Craft\, D&D\, Outing \n–PM Activities: Outing\, Library\, YMCA or Line dancing\, Outing\, D&D\, Social club \n***Your chosen regular planned activities will be highlighted when you receive your personal calendar. If you would like to change your activity\, please contact Sahidi. \nFor Our Friends of Adult Home and Community Services\, come join us for engaging\, interactive activities throughout the month.
URL:https://generationsllc.org/event/monday-at-the-hub-33/
END:VEVENT
END:VCALENDAR