BEGIN:VCALENDAR
VERSION:2.0
PRODID:-//Generations LLC - ECPv6.15.20//NONSGML v1.0//EN
CALSCALE:GREGORIAN
METHOD:PUBLISH
X-WR-CALNAME:Generations LLC
X-ORIGINAL-URL:https://generationsllc.org
X-WR-CALDESC:Events for Generations LLC
REFRESH-INTERVAL;VALUE=DURATION:PT1H
X-Robots-Tag:noindex
X-PUBLISHED-TTL:PT1H
BEGIN:VTIMEZONE
TZID:UTC
BEGIN:STANDARD
TZOFFSETFROM:+0000
TZOFFSETTO:+0000
TZNAME:UTC
DTSTART:20240101T000000
END:STANDARD
END:VTIMEZONE
BEGIN:VEVENT
DTSTART;VALUE=DATE:20260123
DTEND;VALUE=DATE:20260124
DTSTAMP:20260424T000349
CREATED:20251228T230530Z
LAST-MODIFIED:20251228T230530Z
UID:11612-1769126400-1769212799@generationsllc.org
SUMMARY:Friday at the HUB
DESCRIPTION:AM Activities:   Walking in the Mall\, Relationship Group\, Outing\, Meow Cafe \nPM Activities:    Swimming at the YMCA\, Outing\, Shopping \n  \nFor Our Friends of Adult Home and Community Services\, come join us for engaging\, interactive activities throughout the month.
URL:https://generationsllc.org/event/friday-at-the-hub-20/
LOCATION:Generations\, LLC\, 912 Main St\, Waterboro\, ME\, 04087\, United States
END:VEVENT
BEGIN:VEVENT
DTSTART;VALUE=DATE:20260122
DTEND;VALUE=DATE:20260123
DTSTAMP:20260424T000349
CREATED:20251228T224527Z
LAST-MODIFIED:20251228T224527Z
UID:11599-1769040000-1769126399@generationsllc.org
SUMMARY:Thursday at the HUB
DESCRIPTION:-Activities:   Cooking\, Hiking Group\, Mall\, Visiting the Horse Barn \n  \nFor Our Friends of Adult Home and Community Services\, come join us for engaging\, interactive activities throughout the month.
URL:https://generationsllc.org/event/thursday-at-the-hub-20/
LOCATION:Generations\, LLC\, 912 Main St\, Waterboro\, ME\, 04087\, United States
END:VEVENT
BEGIN:VEVENT
DTSTART;VALUE=DATE:20260121
DTEND;VALUE=DATE:20260122
DTSTAMP:20260424T000349
CREATED:20251228T222614Z
LAST-MODIFIED:20251228T222614Z
UID:11586-1768953600-1769039999@generationsllc.org
SUMMARY:Wednesday at the HUB
DESCRIPTION:–AM Activities:   Adventure Group\, Outing\, Library\, Shopping\, Line Dancing or Basketball \n–PM Activities:   Swimming at the YMCA\, Outing\, Art and Crafts \n**Your chosen regular planned activities will be highlighted when you receive your personal calendar. If you would like to change your activity\, please contact Sahidi. \n  \nFor Our Friends of Adult Home and Community Services\, come join us for engaging\, interactive activities throughout the month.
URL:https://generationsllc.org/event/wednesday-at-the-hub-24/
LOCATION:Generations\, LLC\, 912 Main St\, Waterboro\, ME\, 04087\, United States
END:VEVENT
BEGIN:VEVENT
DTSTART;VALUE=DATE:20260120
DTEND;VALUE=DATE:20260121
DTSTAMP:20260424T000349
CREATED:20251228T221358Z
LAST-MODIFIED:20251228T221358Z
UID:11575-1768867200-1768953599@generationsllc.org
SUMMARY:Tuesday at the HUB
DESCRIPTION: Todays Activities: Bowling\, Volunteer at Parsons library\, Gaming club  \n**Your chosen regular planned activities will be highlighted when you receive your personal calendar. If you would like to change your activity\, please contact Sahidi. \n  \n  \nFor Our Friends of Adult Home and Community Services\, come join us for engaging\, interactive activities throughout the month.
URL:https://generationsllc.org/event/tuesday-at-the-hub-24/
LOCATION:Generations\, LLC\, 912 Main St\, Waterboro\, ME\, 04087\, United States
END:VEVENT
BEGIN:VEVENT
DTSTART;VALUE=DATE:20260119
DTEND;VALUE=DATE:20260120
DTSTAMP:20260424T000349
CREATED:20251228T215839Z
LAST-MODIFIED:20251228T215839Z
UID:11567-1768780800-1768867199@generationsllc.org
SUMMARY:Monday at the HUB
DESCRIPTION:–AM Activities:   Horse Rescue\, Library\, Craft\, Outing\, D&D game \n–PM Activities:   Visit the Library\, Outing\, Swimming at the YMCA\, D&D game \n**Your chosen regular planned activities will be highlighted when you receive your personal calendar. If you would like to change your activity\, please contact Sahidi. \n  \n  \nFor Our Friends of Adult Home and Community Services\, come join us for engaging\, interactive activities throughout the month.
URL:https://generationsllc.org/event/monday-at-the-hub-21/
LOCATION:Generations\, LLC\, 912 Main St\, Waterboro\, ME\, 04087\, United States
END:VEVENT
BEGIN:VEVENT
DTSTART;VALUE=DATE:20260116
DTEND;VALUE=DATE:20260117
DTSTAMP:20260424T000349
CREATED:20251228T230256Z
LAST-MODIFIED:20251228T230256Z
UID:11610-1768521600-1768607999@generationsllc.org
SUMMARY:Friday at the HUB
DESCRIPTION:AM Activities:   Walking in the Mall\, Relationship Group\, Outing\, Meow Cafe \nPM Activities:    Swimming at the YMCA\, Outing\, Shopping \n  \nFor Our Friends of Adult Home and Community Services\, come join us for engaging\, interactive activities throughout the month.
URL:https://generationsllc.org/event/friday-at-the-hub-19/
LOCATION:Generations\, LLC\, 912 Main St\, Waterboro\, ME\, 04087\, United States
END:VEVENT
BEGIN:VEVENT
DTSTART;VALUE=DATE:20260116
DTEND;VALUE=DATE:20260117
DTSTAMP:20260424T000349
CREATED:20251228T230113Z
LAST-MODIFIED:20251228T230113Z
UID:11608-1768521600-1768607999@generationsllc.org
SUMMARY:Friday at the HUB
DESCRIPTION:AM Activities:   Walking in the Mall\, Relationship Group\, Outing\, Meow Cafe \nPM Activities:    Swimming at the YMCA\, Outing\, Shopping \n  \nFor Our Friends of Adult Home and Community Services\, come join us for engaging\, interactive activities throughout the month.
URL:https://generationsllc.org/event/friday-at-the-hub-18/
LOCATION:Generations\, LLC\, 912 Main St\, Waterboro\, ME\, 04087\, United States
END:VEVENT
BEGIN:VEVENT
DTSTART;VALUE=DATE:20260115
DTEND;VALUE=DATE:20260116
DTSTAMP:20260424T000349
CREATED:20251228T224358Z
LAST-MODIFIED:20251228T224358Z
UID:11597-1768435200-1768521599@generationsllc.org
SUMMARY:Thursday at the HUB
DESCRIPTION:-Activities:   Cooking\, Hiking Group\, Mall\, Visiting the Horse Barn \n  \nFor Our Friends of Adult Home and Community Services\, come join us for engaging\, interactive activities throughout the month.
URL:https://generationsllc.org/event/thursday-at-the-hub-19/
LOCATION:Generations\, LLC\, 912 Main St\, Waterboro\, ME\, 04087\, United States
END:VEVENT
BEGIN:VEVENT
DTSTART;VALUE=DATE:20260114
DTEND;VALUE=DATE:20260115
DTSTAMP:20260424T000349
CREATED:20251228T222253Z
LAST-MODIFIED:20251228T222333Z
UID:11584-1768348800-1768435199@generationsllc.org
SUMMARY:Wednesday at the HUB
DESCRIPTION:–AM Activities:   Adventure Group\, Outing\, Library\, Shopping\, Line Dancing or Basketball \n–PM Activities:   Swimming at the YMCA\, Outing\, Art and Crafts \n**Your chosen regular planned activities will be highlighted when you receive your personal calendar. If you would like to change your activity\, please contact Sahidi. \n  \nFor Our Friends of Adult Home and Community Services\, come join us for engaging\, interactive activities throughout the month.
URL:https://generationsllc.org/event/wednesday-at-the-hub-23/
LOCATION:Generations\, LLC\, 912 Main St\, Waterboro\, ME\, 04087\, United States
END:VEVENT
BEGIN:VEVENT
DTSTART;VALUE=DATE:20260113
DTEND;VALUE=DATE:20260114
DTSTAMP:20260424T000349
CREATED:20251228T221202Z
LAST-MODIFIED:20251228T221202Z
UID:11573-1768262400-1768348799@generationsllc.org
SUMMARY:Tuesday at the HUB
DESCRIPTION: Todays Activities: Bowling\, Volunteer at Parsons library\, Gaming club  \n**Your chosen regular planned activities will be highlighted when you receive your personal calendar. If you would like to change your activity\, please contact Sahidi. \n  \n  \nFor Our Friends of Adult Home and Community Services\, come join us for engaging\, interactive activities throughout the month.
URL:https://generationsllc.org/event/tuesday-at-the-hub-23/
LOCATION:Generations\, LLC\, 912 Main St\, Waterboro\, ME\, 04087\, United States
END:VEVENT
BEGIN:VEVENT
DTSTART;VALUE=DATE:20260112
DTEND;VALUE=DATE:20260113
DTSTAMP:20260424T000349
CREATED:20251228T215428Z
LAST-MODIFIED:20251228T215428Z
UID:11565-1768176000-1768262399@generationsllc.org
SUMMARY:Monday at the HUB
DESCRIPTION:–AM Activities:   Horse Rescue\, Library\, Craft\, Outing\, D&D game \n–PM Activities:   Visit the Library\, Outing\, Swimming at the YMCA\, D&D game \n**Your chosen regular planned activities will be highlighted when you receive your personal calendar. If you would like to change your activity\, please contact Sahidi. \n  \n  \nFor Our Friends of Adult Home and Community Services\, come join us for engaging\, interactive activities throughout the month.
URL:https://generationsllc.org/event/monday-at-the-hub-20/
LOCATION:Generations\, LLC\, 912 Main St\, Waterboro\, ME\, 04087\, United States
END:VEVENT
BEGIN:VEVENT
DTSTART;VALUE=DATE:20260109
DTEND;VALUE=DATE:20260110
DTSTAMP:20260424T000349
CREATED:20251228T225425Z
LAST-MODIFIED:20251228T225425Z
UID:11606-1767916800-1768003199@generationsllc.org
SUMMARY:Friday at the HUB
DESCRIPTION:AM Activities:   Walking in the Mall\, Relationship Group\, Outing\, Meow Cafe \nPM Activities:    Swimming at the YMCA\, Outing\, Shopping \n  \nFor Our Friends of Adult Home and Community Services\, come join us for engaging\, interactive activities throughout the month.
URL:https://generationsllc.org/event/friday-at-the-hub-17/
LOCATION:Generations\, LLC\, 912 Main St\, Waterboro\, ME\, 04087\, United States
END:VEVENT
BEGIN:VEVENT
DTSTART;VALUE=DATE:20260108
DTEND;VALUE=DATE:20260109
DTSTAMP:20260424T000349
CREATED:20251228T224211Z
LAST-MODIFIED:20251228T224211Z
UID:11595-1767830400-1767916799@generationsllc.org
SUMMARY:Thursday at the HUB
DESCRIPTION:-Activities:   Cooking\, Hiking Group\, Mall\, Visiting the Horse Barn \n  \nFor Our Friends of Adult Home and Community Services\, come join us for engaging\, interactive activities throughout the month.
URL:https://generationsllc.org/event/thursday-at-the-hub-18/
LOCATION:Generations\, LLC\, 912 Main St\, Waterboro\, ME\, 04087\, United States
END:VEVENT
BEGIN:VEVENT
DTSTART;VALUE=DATE:20260107
DTEND;VALUE=DATE:20260108
DTSTAMP:20260424T000349
CREATED:20251228T222019Z
LAST-MODIFIED:20251228T222019Z
UID:11579-1767744000-1767830399@generationsllc.org
SUMMARY:Wednesday at the HUB
DESCRIPTION:–AM Activities:   Adventure Group\, Outing\, Library\, Shopping\, Line Dancing or Basketball \n–PM Activities:   Swimming at the YMCA\, Outing\, Art and Crafts \n**Your chosen regular planned activities will be highlighted when you receive your personal calendar. If you would like to change your activity\, please contact Sahidi. \n  \nFor Our Friends of Adult Home and Community Services\, come join us for engaging\, interactive activities throughout the month.
URL:https://generationsllc.org/event/wednesday-at-the-hub-21/
LOCATION:Generations\, LLC\, 912 Main St\, Waterboro\, ME\, 04087\, United States
END:VEVENT
BEGIN:VEVENT
DTSTART;VALUE=DATE:20260106
DTEND;VALUE=DATE:20260107
DTSTAMP:20260424T000349
CREATED:20251228T220859Z
LAST-MODIFIED:20251228T220859Z
UID:11571-1767657600-1767743999@generationsllc.org
SUMMARY:Tuesday at the HUB
DESCRIPTION: Todays Activities: Bowling\, Volunteer at Parsons library\, Gaming club  \n**Your chosen regular planned activities will be highlighted when you receive your personal calendar. If you would like to change your activity\, please contact Sahidi. \n  \n  \nFor Our Friends of Adult Home and Community Services\, come join us for engaging\, interactive activities throughout the month.
URL:https://generationsllc.org/event/tuesday-at-the-hub-22/
LOCATION:Generations\, LLC\, 912 Main St\, Waterboro\, ME\, 04087\, United States
END:VEVENT
BEGIN:VEVENT
DTSTART;VALUE=DATE:20260105
DTEND;VALUE=DATE:20260106
DTSTAMP:20260424T000349
CREATED:20251228T214837Z
LAST-MODIFIED:20251228T214837Z
UID:11563-1767571200-1767657599@generationsllc.org
SUMMARY:Monday at the HUB
DESCRIPTION:–AM Activities:   Horse Rescue\, Library\, Craft\, Outing\, D&D game \n–PM Activities:   Visit the Library\, Outing\, Swimming at the YMCA\, D&D game \n**Your chosen regular planned activities will be highlighted when you receive your personal calendar. If you would like to change your activity\, please contact Sahidi. \n  \n  \nFor Our Friends of Adult Home and Community Services\, come join us for engaging\, interactive activities throughout the month.
URL:https://generationsllc.org/event/monday-at-the-hub-19/
LOCATION:Generations\, LLC\, 912 Main St\, Waterboro\, ME\, 04087\, United States
END:VEVENT
BEGIN:VEVENT
DTSTART;VALUE=DATE:20260102
DTEND;VALUE=DATE:20260103
DTSTAMP:20260424T000349
CREATED:20251228T225158Z
LAST-MODIFIED:20251228T225158Z
UID:11604-1767312000-1767398399@generationsllc.org
SUMMARY:Friday at the HUB
DESCRIPTION:AM Activities:   Walking in the Mall\, Relationship Group\, Outing\, Meow Cafe \nPM Activities:    Swimming at the YMCA\, Outing\, Shopping \n  \nFor Our Friends of Adult Home and Community Services\, come join us for engaging\, interactive activities throughout the month.
URL:https://generationsllc.org/event/friday-at-the-hub-16/
LOCATION:Generations\, LLC\, 912 Main St\, Waterboro\, ME\, 04087\, United States
END:VEVENT
BEGIN:VEVENT
DTSTART;VALUE=DATE:20260101
DTEND;VALUE=DATE:20260102
DTSTAMP:20260424T000349
CREATED:20251228T224053Z
LAST-MODIFIED:20251228T224053Z
UID:11593-1767225600-1767311999@generationsllc.org
SUMMARY:Thursday at the HUB
DESCRIPTION:-Activities:   Cooking\, Hiking Group\, Mall\, Visiting the Horse Barn \n  \nFor Our Friends of Adult Home and Community Services\, come join us for engaging\, interactive activities throughout the month.
URL:https://generationsllc.org/event/thursday-at-the-hub-17/
LOCATION:Generations\, LLC\, 912 Main St\, Waterboro\, ME\, 04087\, United States
END:VEVENT
BEGIN:VEVENT
DTSTART;VALUE=DATE:20251231
DTEND;VALUE=DATE:20260101
DTSTAMP:20260424T000349
CREATED:20251204T140616Z
LAST-MODIFIED:20251204T140616Z
UID:11549-1767139200-1767225599@generationsllc.org
SUMMARY:Wednesday at the HUB
DESCRIPTION:–AM Activities:   Adventure Group\, Outing\, Library\, Shopping\, Line Dancing or Basketball \n–PM Activities:   Swimming at the YMCA\, Outing\, Art and Crafts \n**Your chosen regular planned activities will be highlighted when you receive your personal calendar. If you would like to change your activity\, please contact Sahidi. \n  \nFor Our Friends of Adult Home and Community Services\, come join us for engaging\, interactive activities throughout the month.
URL:https://generationsllc.org/event/wednesday-at-the-hub-20/
LOCATION:Generations\, LLC\, 912 Main St\, Waterboro\, ME\, 04087\, United States
END:VEVENT
BEGIN:VEVENT
DTSTART;VALUE=DATE:20251230
DTEND;VALUE=DATE:20251231
DTSTAMP:20260424T000349
CREATED:20251204T135533Z
LAST-MODIFIED:20251204T135533Z
UID:11535-1767052800-1767139199@generationsllc.org
SUMMARY:Tuesday at the HUB
DESCRIPTION:–AM Activities:   Bowling\, Volunteer at the Library\, Gaming Club \n**Your chosen regular planned activities will be highlighted when you receive your personal calendar. If you would like to change your activity\, please contact Sahidi. \n  \n  \nFor Our Friends of Adult Home and Community Services\, come join us for engaging\, interactive activities throughout the month.
URL:https://generationsllc.org/event/tuesday-at-the-hub-21/
LOCATION:Generations\, LLC\, 912 Main St\, Waterboro\, ME\, 04087\, United States
END:VEVENT
BEGIN:VEVENT
DTSTART;VALUE=DATE:20251229
DTEND;VALUE=DATE:20251230
DTSTAMP:20260424T000349
CREATED:20251204T134726Z
LAST-MODIFIED:20251204T134726Z
UID:11525-1766966400-1767052799@generationsllc.org
SUMMARY:Monday at the HUB
DESCRIPTION:–AM Activities:   Horse Rescue\, Library\, Craft\, Outing\, D&D game \n–PM Activities:   Visit the Library\, Outing\, Swimming at the YMCA\, D&D game \n**Your chosen regular planned activities will be highlighted when you receive your personal calendar. If you would like to change your activity\, please contact Sahidi. \n  \n  \nFor Our Friends of Adult Home and Community Services\, come join us for engaging\, interactive activities throughout the month.
URL:https://generationsllc.org/event/monday-at-the-hub-18/
LOCATION:Generations\, LLC\, 912 Main St\, Waterboro\, ME\, 04087\, United States
END:VEVENT
BEGIN:VEVENT
DTSTART;TZID=UTC:20251228T080000
DTEND;TZID=UTC:20251228T170000
DTSTAMP:20260424T000349
CREATED:20251228T222126Z
LAST-MODIFIED:20251228T222126Z
UID:11582-1766908800-1766941200@generationsllc.org
SUMMARY:Wednesday at the HUB
DESCRIPTION:–AM Activities:   Adventure Group\, Outing\, Library\, Shopping\, Line Dancing or Basketball \n–PM Activities:   Swimming at the YMCA\, Outing\, Art and Crafts \n**Your chosen regular planned activities will be highlighted when you receive your personal calendar. If you would like to change your activity\, please contact Sahidi. \n  \nFor Our Friends of Adult Home and Community Services\, come join us for engaging\, interactive activities throughout the month.
URL:https://generationsllc.org/event/wednesday-at-the-hub-22/
LOCATION:Generations\, LLC\, 912 Main St\, Waterboro\, ME\, 04087\, United States
END:VEVENT
BEGIN:VEVENT
DTSTART;VALUE=DATE:20251226
DTEND;VALUE=DATE:20251227
DTSTAMP:20260424T000349
CREATED:20251204T140350Z
LAST-MODIFIED:20251204T140350Z
UID:11547-1766707200-1766793599@generationsllc.org
SUMMARY:Friday at the HUB
DESCRIPTION:We will be closed today. We hope all of our families and clients have a wonderful long weekend.
URL:https://generationsllc.org/event/friday-at-the-hub-12/
LOCATION:Generations\, LLC\, 912 Main St\, Waterboro\, ME\, 04087\, United States
END:VEVENT
BEGIN:VEVENT
DTSTART;VALUE=DATE:20251225
DTEND;VALUE=DATE:20251226
DTSTAMP:20260424T000349
CREATED:20251204T140259Z
LAST-MODIFIED:20251204T140259Z
UID:11545-1766620800-1766707199@generationsllc.org
SUMMARY:Thursday at the HUB
DESCRIPTION:We will be closed today. We hope all of our families and clients have a wonderful long weekend.
URL:https://generationsllc.org/event/thursday-at-the-hub-13/
LOCATION:Generations\, LLC\, 912 Main St\, Waterboro\, ME\, 04087\, United States
END:VEVENT
BEGIN:VEVENT
DTSTART;VALUE=DATE:20251224
DTEND;VALUE=DATE:20251225
DTSTAMP:20260424T000349
CREATED:20251204T140201Z
LAST-MODIFIED:20251204T140201Z
UID:11543-1766534400-1766620799@generationsllc.org
SUMMARY:Wednesday at the HUB
DESCRIPTION:We will be closed today. We hope all of our families and clients have a wonderful long weekend.
URL:https://generationsllc.org/event/wednesday-at-the-hub-19/
LOCATION:Generations\, LLC\, 912 Main St\, Waterboro\, ME\, 04087\, United States
END:VEVENT
BEGIN:VEVENT
DTSTART;VALUE=DATE:20251223
DTEND;VALUE=DATE:20251224
DTSTAMP:20260424T000349
CREATED:20251204T135445Z
LAST-MODIFIED:20251204T135445Z
UID:11533-1766448000-1766534399@generationsllc.org
SUMMARY:Tuesday at the HUB
DESCRIPTION:–AM Activities:   Bowling\, Volunteer at the Library\, Gaming Club \n**Your chosen regular planned activities will be highlighted when you receive your personal calendar. If you would like to change your activity\, please contact Sahidi. \n  \n  \nFor Our Friends of Adult Home and Community Services\, come join us for engaging\, interactive activities throughout the month.
URL:https://generationsllc.org/event/tuesday-at-the-hub-20/
LOCATION:Generations\, LLC\, 912 Main St\, Waterboro\, ME\, 04087\, United States
END:VEVENT
BEGIN:VEVENT
DTSTART;VALUE=DATE:20251222
DTEND;VALUE=DATE:20251223
DTSTAMP:20260424T000349
CREATED:20251204T134617Z
LAST-MODIFIED:20251204T134617Z
UID:11523-1766361600-1766447999@generationsllc.org
SUMMARY:Monday at the HUB
DESCRIPTION:–AM Activities:   Horse Rescue\, Library\, Craft\, Outing\, D&D game \n–PM Activities:   Visit the Library\, Outing\, Swimming at the YMCA\, D&D game \n**Your chosen regular planned activities will be highlighted when you receive your personal calendar. If you would like to change your activity\, please contact Sahidi. \n  \n  \nFor Our Friends of Adult Home and Community Services\, come join us for engaging\, interactive activities throughout the month.
URL:https://generationsllc.org/event/monday-at-the-hub-17/
LOCATION:Generations\, LLC\, 912 Main St\, Waterboro\, ME\, 04087\, United States
END:VEVENT
BEGIN:VEVENT
DTSTART;VALUE=DATE:20251219
DTEND;VALUE=DATE:20251220
DTSTAMP:20260424T000349
CREATED:20251204T150052Z
LAST-MODIFIED:20251204T150052Z
UID:11561-1766102400-1766188799@generationsllc.org
SUMMARY:Friday at the HUB
DESCRIPTION:AM Activities:   Christmas Party!   We will provide lunch today. \n             If you would like to participate in the Yankee Swap please bring a $10 gift. \nPM Activities:    Swimming at the YMCA\, Outing\, Shopping \nFor Our Friends of Adult Home and Community Services\, come join us for engaging\, interactive activities throughout the month.
URL:https://generationsllc.org/event/friday-at-the-hub-15/
LOCATION:Generations\, LLC\, 912 Main St\, Waterboro\, ME\, 04087\, United States
END:VEVENT
BEGIN:VEVENT
DTSTART;VALUE=DATE:20251218
DTEND;VALUE=DATE:20251219
DTSTAMP:20260424T000349
CREATED:20251204T145455Z
LAST-MODIFIED:20251204T145455Z
UID:11555-1766016000-1766102399@generationsllc.org
SUMMARY:Thursday at the HUB
DESCRIPTION:-Activities:   Cooking\, Hiking Group\, Mall\, Visiting the Horse Barn \nFor Our Friends of Adult Home and Community Services\, come join us for engaging\, interactive activities throughout the month.
URL:https://generationsllc.org/event/thursday-at-the-hub-16/
LOCATION:Generations\, LLC\, 912 Main St\, Waterboro\, ME\, 04087\, United States
END:VEVENT
BEGIN:VEVENT
DTSTART;VALUE=DATE:20251217
DTEND;VALUE=DATE:20251218
DTSTAMP:20260424T000349
CREATED:20251204T135958Z
LAST-MODIFIED:20251204T135958Z
UID:11541-1765929600-1766015999@generationsllc.org
SUMMARY:Wednesday at the HUB
DESCRIPTION:–AM Activities:   Adventure Group\, Outing\, Library\, Shopping\, Line Dancing or Basketball \n–PM Activities:   Swimming at the YMCA\, Outing\, Art and Crafts \n**Your chosen regular planned activities will be highlighted when you receive your personal calendar. If you would like to change your activity\, please contact Sahidi. \n  \nFor Our Friends of Adult Home and Community Services\, come join us for engaging\, interactive activities throughout the month.
URL:https://generationsllc.org/event/wednesday-at-the-hub-18/
LOCATION:Generations\, LLC\, 912 Main St\, Waterboro\, ME\, 04087\, United States
END:VEVENT
END:VCALENDAR