BEGIN:VCALENDAR
VERSION:2.0
PRODID:-//Generations LLC - ECPv6.15.20//NONSGML v1.0//EN
CALSCALE:GREGORIAN
METHOD:PUBLISH
X-WR-CALNAME:Generations LLC
X-ORIGINAL-URL:https://generationsllc.org
X-WR-CALDESC:Events for Generations LLC
REFRESH-INTERVAL;VALUE=DURATION:PT1H
X-Robots-Tag:noindex
X-PUBLISHED-TTL:PT1H
BEGIN:VTIMEZONE
TZID:UTC
BEGIN:STANDARD
TZOFFSETFROM:+0000
TZOFFSETTO:+0000
TZNAME:UTC
DTSTART:20250101T000000
END:STANDARD
END:VTIMEZONE
BEGIN:VEVENT
DTSTART;VALUE=DATE:20260402
DTEND;VALUE=DATE:20260403
DTSTAMP:20260423T173459
CREATED:20260410T234302Z
LAST-MODIFIED:20260410T234805Z
UID:11778-1775088000-1775174399@generationsllc.org
SUMMARY:Thursday at the HUB
DESCRIPTION:–Activities: Cooking\, Shopping\, Mall (Budget club)\, Volunteer group\, Work skills and education group\, Coffee social \n***Your chosen regular planned activities will be highlighted when you receive your personal calendar. If you would like to change your activity\, please contact Sahidi. \nFor Our Friends of Adult Home and Community Services\, come join us for engaging\, interactive activities throughout the month.
URL:https://generationsllc.org/event/thursday-at-the-hub-27/
END:VEVENT
END:VCALENDAR