BEGIN:VCALENDAR
VERSION:2.0
PRODID:-//Generations LLC - ECPv6.15.20//NONSGML v1.0//EN
CALSCALE:GREGORIAN
METHOD:PUBLISH
X-WR-CALNAME:Generations LLC
X-ORIGINAL-URL:https://generationsllc.org
X-WR-CALDESC:Events for Generations LLC
REFRESH-INTERVAL;VALUE=DURATION:PT1H
X-Robots-Tag:noindex
X-PUBLISHED-TTL:PT1H
BEGIN:VTIMEZONE
TZID:UTC
BEGIN:STANDARD
TZOFFSETFROM:+0000
TZOFFSETTO:+0000
TZNAME:UTC
DTSTART:20250101T000000
END:STANDARD
END:VTIMEZONE
BEGIN:VEVENT
DTSTART;VALUE=DATE:20260211
DTEND;VALUE=DATE:20260212
DTSTAMP:20260423T210637
CREATED:20260205T144323Z
LAST-MODIFIED:20260205T144323Z
UID:11642-1770768000-1770854399@generationsllc.org
SUMMARY:Wednesday at the HUB
DESCRIPTION:– AM Activities:    Adventure Group\, Outing\, Library\, Shopping\, Line Dancing -or- Basketball \n–PM Activities:   Swimming at the YMCA\, Outing\, Art and Crafts \n**Your chosen regular planned activities will be highlighted when you receive your personal calendar. If you would like to change your activity\, please contact Sahidi. \n  \nFor Our Friends of Adult Home and Community Services\, come join us for engaging\, interactive activities throughout the month.
URL:https://generationsllc.org/event/wednesday-at-the-hub-27/
LOCATION:Generations\, LLC\, 912 Main St\, Waterboro\, ME\, 04087\, United States
END:VEVENT
END:VCALENDAR