BEGIN:VCALENDAR
VERSION:2.0
PRODID:-//Generations LLC - ECPv6.15.20//NONSGML v1.0//EN
CALSCALE:GREGORIAN
METHOD:PUBLISH
X-ORIGINAL-URL:https://generationsllc.org
X-WR-CALDESC:Events for Generations LLC
REFRESH-INTERVAL;VALUE=DURATION:PT1H
X-Robots-Tag:noindex
X-PUBLISHED-TTL:PT1H
BEGIN:VTIMEZONE
TZID:UTC
BEGIN:STANDARD
TZOFFSETFROM:+0000
TZOFFSETTO:+0000
TZNAME:UTC
DTSTART:20250101T000000
END:STANDARD
END:VTIMEZONE
BEGIN:VEVENT
DTSTART;VALUE=DATE:20260210
DTEND;VALUE=DATE:20260211
DTSTAMP:20260423T210751
CREATED:20260205T141832Z
LAST-MODIFIED:20260205T141832Z
UID:11634-1770681600-1770767999@generationsllc.org
SUMMARY:Tuesday at the HUB
DESCRIPTION:Todays Activities: Bowling\, Volunteer at Parsons library\, Gaming club \, Social Skills group and projects \n**Your chosen regular planned activities will be highlighted when you receive your personal calendar. If you would like to change your activity\, please contact Sahidi. \n  \n  \nFor Our Friends of Adult Home and Community Services\, come join us for engaging\, interactive activities throughout the month.
URL:https://generationsllc.org/event/tuesday-at-the-hub-27/
LOCATION:Generations\, LLC\, 912 Main St\, Waterboro\, ME\, 04087\, United States
END:VEVENT
END:VCALENDAR