BEGIN:VCALENDAR
VERSION:2.0
PRODID:-//Generations LLC - ECPv6.15.20//NONSGML v1.0//EN
CALSCALE:GREGORIAN
METHOD:PUBLISH
X-WR-CALNAME:Generations LLC
X-ORIGINAL-URL:https://generationsllc.org
X-WR-CALDESC:Events for Generations LLC
REFRESH-INTERVAL;VALUE=DURATION:PT1H
X-Robots-Tag:noindex
X-PUBLISHED-TTL:PT1H
BEGIN:VTIMEZONE
TZID:UTC
BEGIN:STANDARD
TZOFFSETFROM:+0000
TZOFFSETTO:+0000
TZNAME:UTC
DTSTART:20240101T000000
END:STANDARD
END:VTIMEZONE
BEGIN:VEVENT
DTSTART;VALUE=DATE:20251003
DTEND;VALUE=DATE:20251004
DTSTAMP:20260424T121355
CREATED:20250906T180106Z
LAST-MODIFIED:20250906T180725Z
UID:11428-1759449600-1759535999@generationsllc.org
SUMMARY:Adult Services _ October Activities _ Friday at the HUB
DESCRIPTION:For Our Friends of Adult Home and Community Services\, come join us for engaging\, interactive activities throughout the month. \n  \nHEY THERE!! We are planning a trip to the Fryeburg Fair on Oct. 3rd Tickets are $15   Arrival time 8am. Please plan pick up at 4pm. Please RSVP by Sept 22nd
URL:https://generationsllc.org/event/adult-services-_-october-activities-_-friday-at-the-hub/
LOCATION:Generations\, LLC\, 912 Main St\, Waterboro\, ME\, 04087\, United States
END:VEVENT
BEGIN:VEVENT
DTSTART;VALUE=DATE:20251003
DTEND;VALUE=DATE:20251004
DTSTAMP:20260424T121355
CREATED:20250926T123915Z
LAST-MODIFIED:20250926T123915Z
UID:11476-1759449600-1759535999@generationsllc.org
SUMMARY:Adult Services - October Events - Friday at the HUB
DESCRIPTION:For Our Friends of Adult Home and Community Services\, come join us for engaging\, interactive activities throughout the month. \nToday is the Fryeburg Fair trip. Please arrive by 8am. Pick up time is 4pm.     Tickets are $15.00. Please RSVP by Sept 22nd. \nNot interested in the Fair? We will have other things happening for those not wanting to go. \n**Your chosen regular planned activities will be highlighted when you receive your personal calendar. If you would like to change your activity\, please contact Sahidi.
URL:https://generationsllc.org/event/adult-services-october-events-friday-at-the-hub-4/
LOCATION:Generations\, LLC\, 912 Main St\, Waterboro\, ME\, 04087\, United States
END:VEVENT
END:VCALENDAR