BEGIN:VCALENDAR
VERSION:2.0
PRODID:-//Generations LLC - ECPv6.15.20//NONSGML v1.0//EN
CALSCALE:GREGORIAN
METHOD:PUBLISH
X-ORIGINAL-URL:https://generationsllc.org
X-WR-CALDESC:Events for Generations LLC
REFRESH-INTERVAL;VALUE=DURATION:PT1H
X-Robots-Tag:noindex
X-PUBLISHED-TTL:PT1H
BEGIN:VTIMEZONE
TZID:UTC
BEGIN:STANDARD
TZOFFSETFROM:+0000
TZOFFSETTO:+0000
TZNAME:UTC
DTSTART:20240101T000000
END:STANDARD
END:VTIMEZONE
BEGIN:VEVENT
DTSTART;VALUE=DATE:20250901
DTEND;VALUE=DATE:20250902
DTSTAMP:20260424T134526
CREATED:20250906T172445Z
LAST-MODIFIED:20250906T172445Z
UID:11384-1756684800-1756771199@generationsllc.org
SUMMARY:Adult Services_September Activities_Monday at the HUB
DESCRIPTION:The HUB is closed today. We hope you have a wonderful long weekend.
URL:https://generationsllc.org/event/adult-services_september-activities_monday-at-the-hub-2/
LOCATION:Generations\, LLC\, 912 Main St\, Waterboro\, ME\, 04087\, United States
END:VEVENT
END:VCALENDAR