BEGIN:VCALENDAR
VERSION:2.0
PRODID:-//Generations LLC - ECPv6.15.20//NONSGML v1.0//EN
CALSCALE:GREGORIAN
METHOD:PUBLISH
X-ORIGINAL-URL:https://generationsllc.org
X-WR-CALDESC:Events for Generations LLC
REFRESH-INTERVAL;VALUE=DURATION:PT1H
X-Robots-Tag:noindex
X-PUBLISHED-TTL:PT1H
BEGIN:VTIMEZONE
TZID:UTC
BEGIN:STANDARD
TZOFFSETFROM:+0000
TZOFFSETTO:+0000
TZNAME:UTC
DTSTART:20240101T000000
END:STANDARD
END:VTIMEZONE
BEGIN:VEVENT
DTSTART;VALUE=DATE:20250612
DTEND;VALUE=DATE:20250613
DTSTAMP:20260424T201119
CREATED:20250602T124622Z
LAST-MODIFIED:20250602T124622Z
UID:11254-1749686400-1749772799@generationsllc.org
SUMMARY:Adult Services - June Activities - Thursday at the HUB
DESCRIPTION:For Our Friends of Adult Home and Community Services\, come join us for engaging\, interactive activities throughout the month. \n-Activities:   Cooking\, Hiking Group\, Mall\, Meow Cafe  \n**Your chosen regular planned activities will be highlighted when you receive your personal calendar. If you would like to change your activity\, please contact Sahidi.
URL:https://generationsllc.org/event/adult-services-june-activities-thursday-at-the-hub-2/
LOCATION:Generations\, LLC\, 912 Main St\, Waterboro\, ME\, 04087\, United States
END:VEVENT
BEGIN:VEVENT
DTSTART;TZID=UTC:20250612T140000
DTEND;TZID=UTC:20250612T161500
DTSTAMP:20260424T201119
CREATED:20250527T124825Z
LAST-MODIFIED:20250527T124825Z
UID:11219-1749736800-1749744900@generationsllc.org
SUMMARY:Children Services - June Events - Celebrate Fathers
DESCRIPTION:Friends of Children’s Services are welcome to come join us for engaging activities and creative crafts with friends throughout the month. \nJune 12th – come join friends to make treats for the fathers in our lives. \nJune 19th – friends meet to work on a collaborative art project. \nJune 26th – Let’s HIKE!  We’ll be hiking at Alewive Woods Preserve in Kennebunk. \nmake sure to be prepared by bringing bug gear\, water and a snack. \nWe’ll all meet at the trail head by 2pm. \nAlewive Woods Preserve – Kennebunk Land Trust \n 
URL:https://generationsllc.org/event/children-services-june-events-celebrate-fathers/
LOCATION:Generations\, LLC\, 912 Main St\, Waterboro\, ME\, 04087\, United States
ORGANIZER;CN="Hannah":MAILTO:hwelsh.generations@gmail.com
END:VEVENT
END:VCALENDAR