BEGIN:VCALENDAR
VERSION:2.0
PRODID:-//Generations LLC - ECPv6.15.20//NONSGML v1.0//EN
CALSCALE:GREGORIAN
METHOD:PUBLISH
X-WR-CALNAME:Generations LLC
X-ORIGINAL-URL:https://generationsllc.org
X-WR-CALDESC:Events for Generations LLC
REFRESH-INTERVAL;VALUE=DURATION:PT1H
X-Robots-Tag:noindex
X-PUBLISHED-TTL:PT1H
BEGIN:VTIMEZONE
TZID:UTC
BEGIN:STANDARD
TZOFFSETFROM:+0000
TZOFFSETTO:+0000
TZNAME:UTC
DTSTART:20240101T000000
END:STANDARD
END:VTIMEZONE
BEGIN:VEVENT
DTSTART;VALUE=DATE:20250508
DTEND;VALUE=DATE:20250509
DTSTAMP:20260425T013501
CREATED:20250428T122730Z
LAST-MODIFIED:20250428T122730Z
UID:11180-1746662400-1746748799@generationsllc.org
SUMMARY:Thursday at the HUB
DESCRIPTION:For Our Friends of Adult Home and Community Services\, come join us for engaging\, interactive activities throughout the month. \n-Activities:   Cooking\, Hiking Group\, Mall\, Coffee Social\, Meow Cafe  \n**Your chosen regular planned activities will be highlighted when you receive your personal calendar. If you would like to change your activity\, please contact Sahidi.
URL:https://generationsllc.org/event/thursday-at-the-hub-9/
LOCATION:Generations\, LLC\, 912 Main St\, Waterboro\, ME\, 04087\, United States
END:VEVENT
BEGIN:VEVENT
DTSTART;TZID=UTC:20250508T140000
DTEND;TZID=UTC:20250508T161500
DTSTAMP:20260425T013501
CREATED:20250428T120938Z
LAST-MODIFIED:20250428T120938Z
UID:11150-1746712800-1746720900@generationsllc.org
SUMMARY:Spring Kickoff Month - Pot a Plant with Friends
DESCRIPTION:Friends of Children’s Services are welcome to come join us for engaging activities and creative crafts with friends throughout the month. \nPractice your green thumb with us as we pot a plant together with friends.
URL:https://generationsllc.org/event/spring-kickoff-month-pot-a-plant-with-friends/
LOCATION:Generations\, LLC\, 912 Main St\, Waterboro\, ME\, 04087\, United States
ORGANIZER;CN="Hannah":MAILTO:hwelsh.generations@gmail.com
END:VEVENT
END:VCALENDAR