BEGIN:VCALENDAR
VERSION:2.0
PRODID:-//Generations LLC - ECPv6.15.20//NONSGML v1.0//EN
CALSCALE:GREGORIAN
METHOD:PUBLISH
X-ORIGINAL-URL:https://generationsllc.org
X-WR-CALDESC:Events for Generations LLC
REFRESH-INTERVAL;VALUE=DURATION:PT1H
X-Robots-Tag:noindex
X-PUBLISHED-TTL:PT1H
BEGIN:VTIMEZONE
TZID:UTC
BEGIN:STANDARD
TZOFFSETFROM:+0000
TZOFFSETTO:+0000
TZNAME:UTC
DTSTART:20240101T000000
END:STANDARD
END:VTIMEZONE
BEGIN:VEVENT
DTSTART;VALUE=DATE:20250501
DTEND;VALUE=DATE:20250502
DTSTAMP:20260424T234624
CREATED:20250428T122621Z
LAST-MODIFIED:20250428T122621Z
UID:11178-1746057600-1746143999@generationsllc.org
SUMMARY:Thursday at the HUB
DESCRIPTION:For Our Friends of Adult Home and Community Services\, come join us for engaging\, interactive activities throughout the month. \n-Activities:   Cooking\, Hiking Group\, Mall\, Meow Cafe  \n**Your chosen regular planned activities will be highlighted when you receive your personal calendar. If you would like to change your activity\, please contact Sahidi.
URL:https://generationsllc.org/event/thursday-at-the-hub-8/
LOCATION:Generations\, LLC\, 912 Main St\, Waterboro\, ME\, 04087\, United States
END:VEVENT
BEGIN:VEVENT
DTSTART;TZID=UTC:20250501T140000
DTEND;TZID=UTC:20250501T161500
DTSTAMP:20260424T234624
CREATED:20250428T120749Z
LAST-MODIFIED:20250428T120749Z
UID:11148-1746108000-1746116100@generationsllc.org
SUMMARY:Spring Kickoff Month - Decorate a terracotta pot
DESCRIPTION:Friends of Children’s Services are welcome to come join us for engaging activities and creative crafts with friends throughout the month. \nGet out the art supplies with us as we paint and decorate a terracotta pot and work on our photo collage.
URL:https://generationsllc.org/event/spring-kickoff-month-decorate-a-terracotta-pot/
LOCATION:Generations\, LLC\, 912 Main St\, Waterboro\, ME\, 04087\, United States
ORGANIZER;CN="Hannah":MAILTO:hwelsh.generations@gmail.com
END:VEVENT
END:VCALENDAR