BEGIN:VCALENDAR
VERSION:2.0
PRODID:-//Generations LLC - ECPv6.15.20//NONSGML v1.0//EN
CALSCALE:GREGORIAN
METHOD:PUBLISH
X-ORIGINAL-URL:https://generationsllc.org
X-WR-CALDESC:Events for Generations LLC
REFRESH-INTERVAL;VALUE=DURATION:PT1H
X-Robots-Tag:noindex
X-PUBLISHED-TTL:PT1H
BEGIN:VTIMEZONE
TZID:UTC
BEGIN:STANDARD
TZOFFSETFROM:+0000
TZOFFSETTO:+0000
TZNAME:UTC
DTSTART:20240101T000000
END:STANDARD
END:VTIMEZONE
BEGIN:VEVENT
DTSTART;VALUE=DATE:20250424
DTEND;VALUE=DATE:20250425
DTSTAMP:20260425T013636
CREATED:20250408T142308Z
LAST-MODIFIED:20250408T142308Z
UID:11136-1745452800-1745539199@generationsllc.org
SUMMARY:Thursday at the HUB
DESCRIPTION:For Our Friends of Adult Home and Community Services\, come join us for engaging\, interactive activities throughout the month. \n-Activities:   Cooking\, Hiking Group\, Mall\, Shopping\, Coffee Social\, Meow Cafe  \n**Your chosen regular planned activities will be highlighted when you receive your personal calendar. If you would like to change your activity\, please contact Sahidi.
URL:https://generationsllc.org/event/thursday-at-the-hub-7/
LOCATION:Generations\, LLC\, 912 Main St\, Waterboro\, ME\, 04087\, United States
END:VEVENT
BEGIN:VEVENT
DTSTART;TZID=UTC:20250424T143000
DTEND;TZID=UTC:20250424T161500
DTSTAMP:20260425T013636
CREATED:20241227T173607Z
LAST-MODIFIED:20250328T154001Z
UID:10982-1745505000-1745511300@generationsllc.org
SUMMARY:Celebrating Earth "Month" - Nature Hike
DESCRIPTION:Friends of Children’s Services are welcome to come join us for engaging activities and creative crafts with friends throughout the month. \nCome walk with us on a hike in our local area and discover the beauty of our natural world.
URL:https://generationsllc.org/event/local-nature-hike/
LOCATION:Generations\, LLC\, 912 Main St\, Waterboro\, ME\, 04087\, United States
ORGANIZER;CN="Hannah":MAILTO:hwelsh.generations@gmail.com
END:VEVENT
END:VCALENDAR